BEGIN:VCALENDAR
VERSION:2.0
PRODID:-//The Shaar - ECPv6.15.20//NONSGML v1.0//EN
CALSCALE:GREGORIAN
METHOD:PUBLISH
X-ORIGINAL-URL:https://www.theshaar.org
X-WR-CALDESC:Events for The Shaar
REFRESH-INTERVAL;VALUE=DURATION:PT1H
X-Robots-Tag:noindex
X-PUBLISHED-TTL:PT1H
BEGIN:VTIMEZONE
TZID:America/New_York
BEGIN:DAYLIGHT
TZOFFSETFROM:-0500
TZOFFSETTO:-0400
TZNAME:EDT
DTSTART:20250309T070000
END:DAYLIGHT
BEGIN:STANDARD
TZOFFSETFROM:-0400
TZOFFSETTO:-0500
TZNAME:EST
DTSTART:20251102T060000
END:STANDARD
BEGIN:DAYLIGHT
TZOFFSETFROM:-0500
TZOFFSETTO:-0400
TZNAME:EDT
DTSTART:20260308T070000
END:DAYLIGHT
BEGIN:STANDARD
TZOFFSETFROM:-0400
TZOFFSETTO:-0500
TZNAME:EST
DTSTART:20261101T060000
END:STANDARD
BEGIN:DAYLIGHT
TZOFFSETFROM:-0500
TZOFFSETTO:-0400
TZNAME:EDT
DTSTART:20270314T070000
END:DAYLIGHT
BEGIN:STANDARD
TZOFFSETFROM:-0400
TZOFFSETTO:-0500
TZNAME:EST
DTSTART:20271107T060000
END:STANDARD
END:VTIMEZONE
BEGIN:VEVENT
DTSTART;TZID=America/New_York:20260903T193000
DTEND;TZID=America/New_York:20260903T210000
DTSTAMP:20260421T051903
CREATED:20250909T165514Z
LAST-MODIFIED:20251210T200440Z
UID:10011898-1788463800-1788469200@www.theshaar.org
SUMMARY:Parashat Hashavua
DESCRIPTION:Taught by Rabbi Ellis\nCome together for a thoughtful and dynamic exploration of the weekly Torah portion. Each session offers fresh insights and contemporary perspectives\, uncovering the modern relevance and timeless wisdom woven into our holiest text\, the Torah. \nFree and open to all
URL:https://www.theshaar.org/event/parashat-hashavua/2026-09-03/
LOCATION:Congregation Shaar Hashomayim\, 425 Metcalfe Ave\, Westmount\, Quebec\, H3Y 3A2\, Canada
CATEGORIES:Shaar Learning Center,Main Event
ATTACH;FMTTYPE=image/jpeg:https://www.theshaar.org/wp-content/uploads/2025/09/SH_Parshat_Hashavua_Flyer2-scaled.jpg
END:VEVENT
BEGIN:VEVENT
DTSTART;TZID=America/New_York:20260904T113000
DTEND;TZID=America/New_York:20260904T120000
DTSTAMP:20260421T051903
CREATED:20260113T202308Z
LAST-MODIFIED:20260113T202308Z
UID:10013824-1788521400-1788523200@www.theshaar.org
SUMMARY:Parent & Tot Shabbat
DESCRIPTION:
URL:https://www.theshaar.org/event/parent-tot-shabbat/2026-09-04/
LOCATION:Congregation Shaar Hashomayim\, 425 Metcalfe Ave\, Westmount\, Quebec\, H3Y 3A2\, Canada
CATEGORIES:Main Event,Youth & Young Families
ATTACH;FMTTYPE=image/png:https://www.theshaar.org/wp-content/uploads/2026/01/parent-and-tot-winter-2026.png
END:VEVENT
BEGIN:VEVENT
DTSTART;TZID=America/New_York:20260907T190000
DTEND;TZID=America/New_York:20260907T200000
DTSTAMP:20260421T051903
CREATED:20250909T181340Z
LAST-MODIFIED:20260420T163019Z
UID:10012154-1788807600-1788811200@www.theshaar.org
SUMMARY:Kings\, Princes\, and Prophets
DESCRIPTION:Taught by Yosi Even-Hen\nStep into the world of ancient Israel and witness the remarkable journey of David — from a humble shepherd to the anointed King — as told in the Book of Samuel. \nClick below to join on Zoom: \nhttps://us06web.zoom.us/j/86296690278?pwd=E2RYWrGALMQObdkrNCITinZ0Gytpwl.1 \nMeeting ID: 862 9669 0278\nPasscode: 074293
URL:https://www.theshaar.org/event/kings-princes-and-prophets/2026-09-07/
LOCATION:Online
CATEGORIES:Shaar Learning Center,Main Event
ATTACH;FMTTYPE=image/jpeg:https://www.theshaar.org/wp-content/uploads/2025/09/SH_KingsPrincesProphets_Flyer-scaled.jpg
END:VEVENT
BEGIN:VEVENT
DTSTART;TZID=America/New_York:20260910T193000
DTEND;TZID=America/New_York:20260910T210000
DTSTAMP:20260421T051903
CREATED:20250909T165514Z
LAST-MODIFIED:20251210T200440Z
UID:10011899-1789068600-1789074000@www.theshaar.org
SUMMARY:Parashat Hashavua
DESCRIPTION:Taught by Rabbi Ellis\nCome together for a thoughtful and dynamic exploration of the weekly Torah portion. Each session offers fresh insights and contemporary perspectives\, uncovering the modern relevance and timeless wisdom woven into our holiest text\, the Torah. \nFree and open to all
URL:https://www.theshaar.org/event/parashat-hashavua/2026-09-10/
LOCATION:Congregation Shaar Hashomayim\, 425 Metcalfe Ave\, Westmount\, Quebec\, H3Y 3A2\, Canada
CATEGORIES:Shaar Learning Center,Main Event
ATTACH;FMTTYPE=image/jpeg:https://www.theshaar.org/wp-content/uploads/2025/09/SH_Parshat_Hashavua_Flyer2-scaled.jpg
END:VEVENT
BEGIN:VEVENT
DTSTART;TZID=America/New_York:20260911T113000
DTEND;TZID=America/New_York:20260911T120000
DTSTAMP:20260421T051903
CREATED:20260113T202308Z
LAST-MODIFIED:20260113T202308Z
UID:10013825-1789126200-1789128000@www.theshaar.org
SUMMARY:Parent & Tot Shabbat
DESCRIPTION:
URL:https://www.theshaar.org/event/parent-tot-shabbat/2026-09-11/
LOCATION:Congregation Shaar Hashomayim\, 425 Metcalfe Ave\, Westmount\, Quebec\, H3Y 3A2\, Canada
CATEGORIES:Main Event,Youth & Young Families
ATTACH;FMTTYPE=image/png:https://www.theshaar.org/wp-content/uploads/2026/01/parent-and-tot-winter-2026.png
END:VEVENT
BEGIN:VEVENT
DTSTART;TZID=America/New_York:20260914T190000
DTEND;TZID=America/New_York:20260914T200000
DTSTAMP:20260421T051903
CREATED:20250909T181340Z
LAST-MODIFIED:20260420T163019Z
UID:10012155-1789412400-1789416000@www.theshaar.org
SUMMARY:Kings\, Princes\, and Prophets
DESCRIPTION:Taught by Yosi Even-Hen\nStep into the world of ancient Israel and witness the remarkable journey of David — from a humble shepherd to the anointed King — as told in the Book of Samuel. \nClick below to join on Zoom: \nhttps://us06web.zoom.us/j/86296690278?pwd=E2RYWrGALMQObdkrNCITinZ0Gytpwl.1 \nMeeting ID: 862 9669 0278\nPasscode: 074293
URL:https://www.theshaar.org/event/kings-princes-and-prophets/2026-09-14/
LOCATION:Online
CATEGORIES:Shaar Learning Center,Main Event
ATTACH;FMTTYPE=image/jpeg:https://www.theshaar.org/wp-content/uploads/2025/09/SH_KingsPrincesProphets_Flyer-scaled.jpg
END:VEVENT
BEGIN:VEVENT
DTSTART;TZID=America/New_York:20260917T193000
DTEND;TZID=America/New_York:20260917T210000
DTSTAMP:20260421T051903
CREATED:20250909T165514Z
LAST-MODIFIED:20251210T200440Z
UID:10011900-1789673400-1789678800@www.theshaar.org
SUMMARY:Parashat Hashavua
DESCRIPTION:Taught by Rabbi Ellis\nCome together for a thoughtful and dynamic exploration of the weekly Torah portion. Each session offers fresh insights and contemporary perspectives\, uncovering the modern relevance and timeless wisdom woven into our holiest text\, the Torah. \nFree and open to all
URL:https://www.theshaar.org/event/parashat-hashavua/2026-09-17/
LOCATION:Congregation Shaar Hashomayim\, 425 Metcalfe Ave\, Westmount\, Quebec\, H3Y 3A2\, Canada
CATEGORIES:Shaar Learning Center,Main Event
ATTACH;FMTTYPE=image/jpeg:https://www.theshaar.org/wp-content/uploads/2025/09/SH_Parshat_Hashavua_Flyer2-scaled.jpg
END:VEVENT
BEGIN:VEVENT
DTSTART;TZID=America/New_York:20260918T113000
DTEND;TZID=America/New_York:20260918T120000
DTSTAMP:20260421T051903
CREATED:20260113T202308Z
LAST-MODIFIED:20260113T202308Z
UID:10013826-1789731000-1789732800@www.theshaar.org
SUMMARY:Parent & Tot Shabbat
DESCRIPTION:
URL:https://www.theshaar.org/event/parent-tot-shabbat/2026-09-18/
LOCATION:Congregation Shaar Hashomayim\, 425 Metcalfe Ave\, Westmount\, Quebec\, H3Y 3A2\, Canada
CATEGORIES:Main Event,Youth & Young Families
ATTACH;FMTTYPE=image/png:https://www.theshaar.org/wp-content/uploads/2026/01/parent-and-tot-winter-2026.png
END:VEVENT
BEGIN:VEVENT
DTSTART;TZID=America/New_York:20260921T190000
DTEND;TZID=America/New_York:20260921T200000
DTSTAMP:20260421T051903
CREATED:20250909T181340Z
LAST-MODIFIED:20260420T163019Z
UID:10012156-1790017200-1790020800@www.theshaar.org
SUMMARY:Kings\, Princes\, and Prophets
DESCRIPTION:Taught by Yosi Even-Hen\nStep into the world of ancient Israel and witness the remarkable journey of David — from a humble shepherd to the anointed King — as told in the Book of Samuel. \nClick below to join on Zoom: \nhttps://us06web.zoom.us/j/86296690278?pwd=E2RYWrGALMQObdkrNCITinZ0Gytpwl.1 \nMeeting ID: 862 9669 0278\nPasscode: 074293
URL:https://www.theshaar.org/event/kings-princes-and-prophets/2026-09-21/
LOCATION:Online
CATEGORIES:Shaar Learning Center,Main Event
ATTACH;FMTTYPE=image/jpeg:https://www.theshaar.org/wp-content/uploads/2025/09/SH_KingsPrincesProphets_Flyer-scaled.jpg
END:VEVENT
BEGIN:VEVENT
DTSTART;TZID=America/New_York:20260924T193000
DTEND;TZID=America/New_York:20260924T210000
DTSTAMP:20260421T051903
CREATED:20250909T165514Z
LAST-MODIFIED:20251210T200440Z
UID:10011901-1790278200-1790283600@www.theshaar.org
SUMMARY:Parashat Hashavua
DESCRIPTION:Taught by Rabbi Ellis\nCome together for a thoughtful and dynamic exploration of the weekly Torah portion. Each session offers fresh insights and contemporary perspectives\, uncovering the modern relevance and timeless wisdom woven into our holiest text\, the Torah. \nFree and open to all
URL:https://www.theshaar.org/event/parashat-hashavua/2026-09-24/
LOCATION:Congregation Shaar Hashomayim\, 425 Metcalfe Ave\, Westmount\, Quebec\, H3Y 3A2\, Canada
CATEGORIES:Shaar Learning Center,Main Event
ATTACH;FMTTYPE=image/jpeg:https://www.theshaar.org/wp-content/uploads/2025/09/SH_Parshat_Hashavua_Flyer2-scaled.jpg
END:VEVENT
BEGIN:VEVENT
DTSTART;TZID=America/New_York:20260925T113000
DTEND;TZID=America/New_York:20260925T120000
DTSTAMP:20260421T051903
CREATED:20260113T202308Z
LAST-MODIFIED:20260113T202308Z
UID:10013827-1790335800-1790337600@www.theshaar.org
SUMMARY:Parent & Tot Shabbat
DESCRIPTION:
URL:https://www.theshaar.org/event/parent-tot-shabbat/2026-09-25/
LOCATION:Congregation Shaar Hashomayim\, 425 Metcalfe Ave\, Westmount\, Quebec\, H3Y 3A2\, Canada
CATEGORIES:Main Event,Youth & Young Families
ATTACH;FMTTYPE=image/png:https://www.theshaar.org/wp-content/uploads/2026/01/parent-and-tot-winter-2026.png
END:VEVENT
BEGIN:VEVENT
DTSTART;TZID=America/New_York:20260928T190000
DTEND;TZID=America/New_York:20260928T200000
DTSTAMP:20260421T051903
CREATED:20250909T181340Z
LAST-MODIFIED:20260420T163019Z
UID:10012157-1790622000-1790625600@www.theshaar.org
SUMMARY:Kings\, Princes\, and Prophets
DESCRIPTION:Taught by Yosi Even-Hen\nStep into the world of ancient Israel and witness the remarkable journey of David — from a humble shepherd to the anointed King — as told in the Book of Samuel. \nClick below to join on Zoom: \nhttps://us06web.zoom.us/j/86296690278?pwd=E2RYWrGALMQObdkrNCITinZ0Gytpwl.1 \nMeeting ID: 862 9669 0278\nPasscode: 074293
URL:https://www.theshaar.org/event/kings-princes-and-prophets/2026-09-28/
LOCATION:Online
CATEGORIES:Shaar Learning Center,Main Event
ATTACH;FMTTYPE=image/jpeg:https://www.theshaar.org/wp-content/uploads/2025/09/SH_KingsPrincesProphets_Flyer-scaled.jpg
END:VEVENT
BEGIN:VEVENT
DTSTART;TZID=America/New_York:20261001T193000
DTEND;TZID=America/New_York:20261001T210000
DTSTAMP:20260421T051903
CREATED:20250909T165514Z
LAST-MODIFIED:20251210T200440Z
UID:10011902-1790883000-1790888400@www.theshaar.org
SUMMARY:Parashat Hashavua
DESCRIPTION:Taught by Rabbi Ellis\nCome together for a thoughtful and dynamic exploration of the weekly Torah portion. Each session offers fresh insights and contemporary perspectives\, uncovering the modern relevance and timeless wisdom woven into our holiest text\, the Torah. \nFree and open to all
URL:https://www.theshaar.org/event/parashat-hashavua/2026-10-01/
LOCATION:Congregation Shaar Hashomayim\, 425 Metcalfe Ave\, Westmount\, Quebec\, H3Y 3A2\, Canada
CATEGORIES:Shaar Learning Center,Main Event
ATTACH;FMTTYPE=image/jpeg:https://www.theshaar.org/wp-content/uploads/2025/09/SH_Parshat_Hashavua_Flyer2-scaled.jpg
END:VEVENT
BEGIN:VEVENT
DTSTART;TZID=America/New_York:20261002T113000
DTEND;TZID=America/New_York:20261002T120000
DTSTAMP:20260421T051903
CREATED:20260113T202308Z
LAST-MODIFIED:20260113T202308Z
UID:10013828-1790940600-1790942400@www.theshaar.org
SUMMARY:Parent & Tot Shabbat
DESCRIPTION:
URL:https://www.theshaar.org/event/parent-tot-shabbat/2026-10-02/
LOCATION:Congregation Shaar Hashomayim\, 425 Metcalfe Ave\, Westmount\, Quebec\, H3Y 3A2\, Canada
CATEGORIES:Main Event,Youth & Young Families
ATTACH;FMTTYPE=image/png:https://www.theshaar.org/wp-content/uploads/2026/01/parent-and-tot-winter-2026.png
END:VEVENT
BEGIN:VEVENT
DTSTART;TZID=America/New_York:20261005T190000
DTEND;TZID=America/New_York:20261005T200000
DTSTAMP:20260421T051903
CREATED:20250909T181340Z
LAST-MODIFIED:20260420T163019Z
UID:10012158-1791226800-1791230400@www.theshaar.org
SUMMARY:Kings\, Princes\, and Prophets
DESCRIPTION:Taught by Yosi Even-Hen\nStep into the world of ancient Israel and witness the remarkable journey of David — from a humble shepherd to the anointed King — as told in the Book of Samuel. \nClick below to join on Zoom: \nhttps://us06web.zoom.us/j/86296690278?pwd=E2RYWrGALMQObdkrNCITinZ0Gytpwl.1 \nMeeting ID: 862 9669 0278\nPasscode: 074293
URL:https://www.theshaar.org/event/kings-princes-and-prophets/2026-10-05/
LOCATION:Online
CATEGORIES:Shaar Learning Center,Main Event
ATTACH;FMTTYPE=image/jpeg:https://www.theshaar.org/wp-content/uploads/2025/09/SH_KingsPrincesProphets_Flyer-scaled.jpg
END:VEVENT
BEGIN:VEVENT
DTSTART;TZID=America/New_York:20261008T193000
DTEND;TZID=America/New_York:20261008T210000
DTSTAMP:20260421T051903
CREATED:20250909T165514Z
LAST-MODIFIED:20251210T200440Z
UID:10011903-1791487800-1791493200@www.theshaar.org
SUMMARY:Parashat Hashavua
DESCRIPTION:Taught by Rabbi Ellis\nCome together for a thoughtful and dynamic exploration of the weekly Torah portion. Each session offers fresh insights and contemporary perspectives\, uncovering the modern relevance and timeless wisdom woven into our holiest text\, the Torah. \nFree and open to all
URL:https://www.theshaar.org/event/parashat-hashavua/2026-10-08/
LOCATION:Congregation Shaar Hashomayim\, 425 Metcalfe Ave\, Westmount\, Quebec\, H3Y 3A2\, Canada
CATEGORIES:Shaar Learning Center,Main Event
ATTACH;FMTTYPE=image/jpeg:https://www.theshaar.org/wp-content/uploads/2025/09/SH_Parshat_Hashavua_Flyer2-scaled.jpg
END:VEVENT
BEGIN:VEVENT
DTSTART;TZID=America/New_York:20261009T113000
DTEND;TZID=America/New_York:20261009T120000
DTSTAMP:20260421T051903
CREATED:20260113T202308Z
LAST-MODIFIED:20260113T202308Z
UID:10013829-1791545400-1791547200@www.theshaar.org
SUMMARY:Parent & Tot Shabbat
DESCRIPTION:
URL:https://www.theshaar.org/event/parent-tot-shabbat/2026-10-09/
LOCATION:Congregation Shaar Hashomayim\, 425 Metcalfe Ave\, Westmount\, Quebec\, H3Y 3A2\, Canada
CATEGORIES:Main Event,Youth & Young Families
ATTACH;FMTTYPE=image/png:https://www.theshaar.org/wp-content/uploads/2026/01/parent-and-tot-winter-2026.png
END:VEVENT
BEGIN:VEVENT
DTSTART;TZID=America/New_York:20261012T190000
DTEND;TZID=America/New_York:20261012T200000
DTSTAMP:20260421T051903
CREATED:20250909T181340Z
LAST-MODIFIED:20260420T163019Z
UID:10012159-1791831600-1791835200@www.theshaar.org
SUMMARY:Kings\, Princes\, and Prophets
DESCRIPTION:Taught by Yosi Even-Hen\nStep into the world of ancient Israel and witness the remarkable journey of David — from a humble shepherd to the anointed King — as told in the Book of Samuel. \nClick below to join on Zoom: \nhttps://us06web.zoom.us/j/86296690278?pwd=E2RYWrGALMQObdkrNCITinZ0Gytpwl.1 \nMeeting ID: 862 9669 0278\nPasscode: 074293
URL:https://www.theshaar.org/event/kings-princes-and-prophets/2026-10-12/
LOCATION:Online
CATEGORIES:Shaar Learning Center,Main Event
ATTACH;FMTTYPE=image/jpeg:https://www.theshaar.org/wp-content/uploads/2025/09/SH_KingsPrincesProphets_Flyer-scaled.jpg
END:VEVENT
BEGIN:VEVENT
DTSTART;TZID=America/New_York:20261015T193000
DTEND;TZID=America/New_York:20261015T210000
DTSTAMP:20260421T051903
CREATED:20250909T165514Z
LAST-MODIFIED:20251210T200440Z
UID:10011904-1792092600-1792098000@www.theshaar.org
SUMMARY:Parashat Hashavua
DESCRIPTION:Taught by Rabbi Ellis\nCome together for a thoughtful and dynamic exploration of the weekly Torah portion. Each session offers fresh insights and contemporary perspectives\, uncovering the modern relevance and timeless wisdom woven into our holiest text\, the Torah. \nFree and open to all
URL:https://www.theshaar.org/event/parashat-hashavua/2026-10-15/
LOCATION:Congregation Shaar Hashomayim\, 425 Metcalfe Ave\, Westmount\, Quebec\, H3Y 3A2\, Canada
CATEGORIES:Shaar Learning Center,Main Event
ATTACH;FMTTYPE=image/jpeg:https://www.theshaar.org/wp-content/uploads/2025/09/SH_Parshat_Hashavua_Flyer2-scaled.jpg
END:VEVENT
BEGIN:VEVENT
DTSTART;TZID=America/New_York:20261016T113000
DTEND;TZID=America/New_York:20261016T120000
DTSTAMP:20260421T051903
CREATED:20260113T202308Z
LAST-MODIFIED:20260113T202308Z
UID:10013830-1792150200-1792152000@www.theshaar.org
SUMMARY:Parent & Tot Shabbat
DESCRIPTION:
URL:https://www.theshaar.org/event/parent-tot-shabbat/2026-10-16/
LOCATION:Congregation Shaar Hashomayim\, 425 Metcalfe Ave\, Westmount\, Quebec\, H3Y 3A2\, Canada
CATEGORIES:Main Event,Youth & Young Families
ATTACH;FMTTYPE=image/png:https://www.theshaar.org/wp-content/uploads/2026/01/parent-and-tot-winter-2026.png
END:VEVENT
BEGIN:VEVENT
DTSTART;TZID=America/New_York:20261019T190000
DTEND;TZID=America/New_York:20261019T200000
DTSTAMP:20260421T051903
CREATED:20250909T181340Z
LAST-MODIFIED:20260420T163019Z
UID:10012160-1792436400-1792440000@www.theshaar.org
SUMMARY:Kings\, Princes\, and Prophets
DESCRIPTION:Taught by Yosi Even-Hen\nStep into the world of ancient Israel and witness the remarkable journey of David — from a humble shepherd to the anointed King — as told in the Book of Samuel. \nClick below to join on Zoom: \nhttps://us06web.zoom.us/j/86296690278?pwd=E2RYWrGALMQObdkrNCITinZ0Gytpwl.1 \nMeeting ID: 862 9669 0278\nPasscode: 074293
URL:https://www.theshaar.org/event/kings-princes-and-prophets/2026-10-19/
LOCATION:Online
CATEGORIES:Shaar Learning Center,Main Event
ATTACH;FMTTYPE=image/jpeg:https://www.theshaar.org/wp-content/uploads/2025/09/SH_KingsPrincesProphets_Flyer-scaled.jpg
END:VEVENT
BEGIN:VEVENT
DTSTART;TZID=America/New_York:20261022T193000
DTEND;TZID=America/New_York:20261022T210000
DTSTAMP:20260421T051903
CREATED:20250909T165514Z
LAST-MODIFIED:20251210T200440Z
UID:10011905-1792697400-1792702800@www.theshaar.org
SUMMARY:Parashat Hashavua
DESCRIPTION:Taught by Rabbi Ellis\nCome together for a thoughtful and dynamic exploration of the weekly Torah portion. Each session offers fresh insights and contemporary perspectives\, uncovering the modern relevance and timeless wisdom woven into our holiest text\, the Torah. \nFree and open to all
URL:https://www.theshaar.org/event/parashat-hashavua/2026-10-22/
LOCATION:Congregation Shaar Hashomayim\, 425 Metcalfe Ave\, Westmount\, Quebec\, H3Y 3A2\, Canada
CATEGORIES:Shaar Learning Center,Main Event
ATTACH;FMTTYPE=image/jpeg:https://www.theshaar.org/wp-content/uploads/2025/09/SH_Parshat_Hashavua_Flyer2-scaled.jpg
END:VEVENT
BEGIN:VEVENT
DTSTART;TZID=America/New_York:20261023T113000
DTEND;TZID=America/New_York:20261023T120000
DTSTAMP:20260421T051903
CREATED:20260113T202308Z
LAST-MODIFIED:20260113T202308Z
UID:10013831-1792755000-1792756800@www.theshaar.org
SUMMARY:Parent & Tot Shabbat
DESCRIPTION:
URL:https://www.theshaar.org/event/parent-tot-shabbat/2026-10-23/
LOCATION:Congregation Shaar Hashomayim\, 425 Metcalfe Ave\, Westmount\, Quebec\, H3Y 3A2\, Canada
CATEGORIES:Main Event,Youth & Young Families
ATTACH;FMTTYPE=image/png:https://www.theshaar.org/wp-content/uploads/2026/01/parent-and-tot-winter-2026.png
END:VEVENT
BEGIN:VEVENT
DTSTART;TZID=America/New_York:20261026T190000
DTEND;TZID=America/New_York:20261026T200000
DTSTAMP:20260421T051903
CREATED:20250909T181340Z
LAST-MODIFIED:20260420T163019Z
UID:10012161-1793041200-1793044800@www.theshaar.org
SUMMARY:Kings\, Princes\, and Prophets
DESCRIPTION:Taught by Yosi Even-Hen\nStep into the world of ancient Israel and witness the remarkable journey of David — from a humble shepherd to the anointed King — as told in the Book of Samuel. \nClick below to join on Zoom: \nhttps://us06web.zoom.us/j/86296690278?pwd=E2RYWrGALMQObdkrNCITinZ0Gytpwl.1 \nMeeting ID: 862 9669 0278\nPasscode: 074293
URL:https://www.theshaar.org/event/kings-princes-and-prophets/2026-10-26/
LOCATION:Online
CATEGORIES:Shaar Learning Center,Main Event
ATTACH;FMTTYPE=image/jpeg:https://www.theshaar.org/wp-content/uploads/2025/09/SH_KingsPrincesProphets_Flyer-scaled.jpg
END:VEVENT
BEGIN:VEVENT
DTSTART;TZID=America/New_York:20261029T193000
DTEND;TZID=America/New_York:20261029T210000
DTSTAMP:20260421T051903
CREATED:20250909T165514Z
LAST-MODIFIED:20251210T200440Z
UID:10011906-1793302200-1793307600@www.theshaar.org
SUMMARY:Parashat Hashavua
DESCRIPTION:Taught by Rabbi Ellis\nCome together for a thoughtful and dynamic exploration of the weekly Torah portion. Each session offers fresh insights and contemporary perspectives\, uncovering the modern relevance and timeless wisdom woven into our holiest text\, the Torah. \nFree and open to all
URL:https://www.theshaar.org/event/parashat-hashavua/2026-10-29/
LOCATION:Congregation Shaar Hashomayim\, 425 Metcalfe Ave\, Westmount\, Quebec\, H3Y 3A2\, Canada
CATEGORIES:Shaar Learning Center,Main Event
ATTACH;FMTTYPE=image/jpeg:https://www.theshaar.org/wp-content/uploads/2025/09/SH_Parshat_Hashavua_Flyer2-scaled.jpg
END:VEVENT
BEGIN:VEVENT
DTSTART;TZID=America/New_York:20261030T113000
DTEND;TZID=America/New_York:20261030T120000
DTSTAMP:20260421T051903
CREATED:20260113T202308Z
LAST-MODIFIED:20260113T202308Z
UID:10013832-1793359800-1793361600@www.theshaar.org
SUMMARY:Parent & Tot Shabbat
DESCRIPTION:
URL:https://www.theshaar.org/event/parent-tot-shabbat/2026-10-30/
LOCATION:Congregation Shaar Hashomayim\, 425 Metcalfe Ave\, Westmount\, Quebec\, H3Y 3A2\, Canada
CATEGORIES:Main Event,Youth & Young Families
ATTACH;FMTTYPE=image/png:https://www.theshaar.org/wp-content/uploads/2026/01/parent-and-tot-winter-2026.png
END:VEVENT
BEGIN:VEVENT
DTSTART;TZID=America/New_York:20261102T190000
DTEND;TZID=America/New_York:20261102T200000
DTSTAMP:20260421T051903
CREATED:20250909T181340Z
LAST-MODIFIED:20260420T163019Z
UID:10012162-1793646000-1793649600@www.theshaar.org
SUMMARY:Kings\, Princes\, and Prophets
DESCRIPTION:Taught by Yosi Even-Hen\nStep into the world of ancient Israel and witness the remarkable journey of David — from a humble shepherd to the anointed King — as told in the Book of Samuel. \nClick below to join on Zoom: \nhttps://us06web.zoom.us/j/86296690278?pwd=E2RYWrGALMQObdkrNCITinZ0Gytpwl.1 \nMeeting ID: 862 9669 0278\nPasscode: 074293
URL:https://www.theshaar.org/event/kings-princes-and-prophets/2026-11-02/
LOCATION:Online
CATEGORIES:Shaar Learning Center,Main Event
ATTACH;FMTTYPE=image/jpeg:https://www.theshaar.org/wp-content/uploads/2025/09/SH_KingsPrincesProphets_Flyer-scaled.jpg
END:VEVENT
BEGIN:VEVENT
DTSTART;TZID=America/New_York:20261105T193000
DTEND;TZID=America/New_York:20261105T210000
DTSTAMP:20260421T051903
CREATED:20250909T165514Z
LAST-MODIFIED:20251210T200440Z
UID:10011907-1793907000-1793912400@www.theshaar.org
SUMMARY:Parashat Hashavua
DESCRIPTION:Taught by Rabbi Ellis\nCome together for a thoughtful and dynamic exploration of the weekly Torah portion. Each session offers fresh insights and contemporary perspectives\, uncovering the modern relevance and timeless wisdom woven into our holiest text\, the Torah. \nFree and open to all
URL:https://www.theshaar.org/event/parashat-hashavua/2026-11-05/
LOCATION:Congregation Shaar Hashomayim\, 425 Metcalfe Ave\, Westmount\, Quebec\, H3Y 3A2\, Canada
CATEGORIES:Shaar Learning Center,Main Event
ATTACH;FMTTYPE=image/jpeg:https://www.theshaar.org/wp-content/uploads/2025/09/SH_Parshat_Hashavua_Flyer2-scaled.jpg
END:VEVENT
BEGIN:VEVENT
DTSTART;TZID=America/New_York:20261106T113000
DTEND;TZID=America/New_York:20261106T120000
DTSTAMP:20260421T051903
CREATED:20260113T202308Z
LAST-MODIFIED:20260113T202308Z
UID:10013833-1793964600-1793966400@www.theshaar.org
SUMMARY:Parent & Tot Shabbat
DESCRIPTION:
URL:https://www.theshaar.org/event/parent-tot-shabbat/2026-11-06/
LOCATION:Congregation Shaar Hashomayim\, 425 Metcalfe Ave\, Westmount\, Quebec\, H3Y 3A2\, Canada
CATEGORIES:Main Event,Youth & Young Families
ATTACH;FMTTYPE=image/png:https://www.theshaar.org/wp-content/uploads/2026/01/parent-and-tot-winter-2026.png
END:VEVENT
BEGIN:VEVENT
DTSTART;TZID=America/New_York:20261109T190000
DTEND;TZID=America/New_York:20261109T200000
DTSTAMP:20260421T051903
CREATED:20250909T181340Z
LAST-MODIFIED:20260420T163019Z
UID:10012163-1794250800-1794254400@www.theshaar.org
SUMMARY:Kings\, Princes\, and Prophets
DESCRIPTION:Taught by Yosi Even-Hen\nStep into the world of ancient Israel and witness the remarkable journey of David — from a humble shepherd to the anointed King — as told in the Book of Samuel. \nClick below to join on Zoom: \nhttps://us06web.zoom.us/j/86296690278?pwd=E2RYWrGALMQObdkrNCITinZ0Gytpwl.1 \nMeeting ID: 862 9669 0278\nPasscode: 074293
URL:https://www.theshaar.org/event/kings-princes-and-prophets/2026-11-09/
LOCATION:Online
CATEGORIES:Shaar Learning Center,Main Event
ATTACH;FMTTYPE=image/jpeg:https://www.theshaar.org/wp-content/uploads/2025/09/SH_KingsPrincesProphets_Flyer-scaled.jpg
END:VEVENT
END:VCALENDAR