BEGIN:VCALENDAR
VERSION:2.0
PRODID:-//The Shaar - ECPv6.15.20//NONSGML v1.0//EN
CALSCALE:GREGORIAN
METHOD:PUBLISH
X-ORIGINAL-URL:https://www.theshaar.org
X-WR-CALDESC:Events for The Shaar
REFRESH-INTERVAL;VALUE=DURATION:PT1H
X-Robots-Tag:noindex
X-PUBLISHED-TTL:PT1H
BEGIN:VTIMEZONE
TZID:America/New_York
BEGIN:DAYLIGHT
TZOFFSETFROM:-0500
TZOFFSETTO:-0400
TZNAME:EDT
DTSTART:20250309T070000
END:DAYLIGHT
BEGIN:STANDARD
TZOFFSETFROM:-0400
TZOFFSETTO:-0500
TZNAME:EST
DTSTART:20251102T060000
END:STANDARD
BEGIN:DAYLIGHT
TZOFFSETFROM:-0500
TZOFFSETTO:-0400
TZNAME:EDT
DTSTART:20260308T070000
END:DAYLIGHT
BEGIN:STANDARD
TZOFFSETFROM:-0400
TZOFFSETTO:-0500
TZNAME:EST
DTSTART:20261101T060000
END:STANDARD
BEGIN:DAYLIGHT
TZOFFSETFROM:-0500
TZOFFSETTO:-0400
TZNAME:EDT
DTSTART:20270314T070000
END:DAYLIGHT
BEGIN:STANDARD
TZOFFSETFROM:-0400
TZOFFSETTO:-0500
TZNAME:EST
DTSTART:20271107T060000
END:STANDARD
END:VTIMEZONE
BEGIN:VEVENT
DTSTART;TZID=America/New_York:20261016T113000
DTEND;TZID=America/New_York:20261016T120000
DTSTAMP:20260421T052317
CREATED:20260113T202308Z
LAST-MODIFIED:20260113T202308Z
UID:10013830-1792150200-1792152000@www.theshaar.org
SUMMARY:Parent & Tot Shabbat
DESCRIPTION:
URL:https://www.theshaar.org/event/parent-tot-shabbat/2026-10-16/
LOCATION:Congregation Shaar Hashomayim\, 425 Metcalfe Ave\, Westmount\, Quebec\, H3Y 3A2\, Canada
CATEGORIES:Main Event,Youth & Young Families
ATTACH;FMTTYPE=image/png:https://www.theshaar.org/wp-content/uploads/2026/01/parent-and-tot-winter-2026.png
END:VEVENT
BEGIN:VEVENT
DTSTART;TZID=America/New_York:20261019T190000
DTEND;TZID=America/New_York:20261019T200000
DTSTAMP:20260421T052317
CREATED:20250909T181340Z
LAST-MODIFIED:20260420T163019Z
UID:10012160-1792436400-1792440000@www.theshaar.org
SUMMARY:Kings\, Princes\, and Prophets
DESCRIPTION:Taught by Yosi Even-Hen\nStep into the world of ancient Israel and witness the remarkable journey of David — from a humble shepherd to the anointed King — as told in the Book of Samuel. \nClick below to join on Zoom: \nhttps://us06web.zoom.us/j/86296690278?pwd=E2RYWrGALMQObdkrNCITinZ0Gytpwl.1 \nMeeting ID: 862 9669 0278\nPasscode: 074293
URL:https://www.theshaar.org/event/kings-princes-and-prophets/2026-10-19/
LOCATION:Online
CATEGORIES:Shaar Learning Center,Main Event
ATTACH;FMTTYPE=image/jpeg:https://www.theshaar.org/wp-content/uploads/2025/09/SH_KingsPrincesProphets_Flyer-scaled.jpg
END:VEVENT
BEGIN:VEVENT
DTSTART;TZID=America/New_York:20261022T193000
DTEND;TZID=America/New_York:20261022T210000
DTSTAMP:20260421T052317
CREATED:20250909T165514Z
LAST-MODIFIED:20251210T200440Z
UID:10011905-1792697400-1792702800@www.theshaar.org
SUMMARY:Parashat Hashavua
DESCRIPTION:Taught by Rabbi Ellis\nCome together for a thoughtful and dynamic exploration of the weekly Torah portion. Each session offers fresh insights and contemporary perspectives\, uncovering the modern relevance and timeless wisdom woven into our holiest text\, the Torah. \nFree and open to all
URL:https://www.theshaar.org/event/parashat-hashavua/2026-10-22/
LOCATION:Congregation Shaar Hashomayim\, 425 Metcalfe Ave\, Westmount\, Quebec\, H3Y 3A2\, Canada
CATEGORIES:Shaar Learning Center,Main Event
ATTACH;FMTTYPE=image/jpeg:https://www.theshaar.org/wp-content/uploads/2025/09/SH_Parshat_Hashavua_Flyer2-scaled.jpg
END:VEVENT
BEGIN:VEVENT
DTSTART;TZID=America/New_York:20261023T113000
DTEND;TZID=America/New_York:20261023T120000
DTSTAMP:20260421T052317
CREATED:20260113T202308Z
LAST-MODIFIED:20260113T202308Z
UID:10013831-1792755000-1792756800@www.theshaar.org
SUMMARY:Parent & Tot Shabbat
DESCRIPTION:
URL:https://www.theshaar.org/event/parent-tot-shabbat/2026-10-23/
LOCATION:Congregation Shaar Hashomayim\, 425 Metcalfe Ave\, Westmount\, Quebec\, H3Y 3A2\, Canada
CATEGORIES:Main Event,Youth & Young Families
ATTACH;FMTTYPE=image/png:https://www.theshaar.org/wp-content/uploads/2026/01/parent-and-tot-winter-2026.png
END:VEVENT
BEGIN:VEVENT
DTSTART;TZID=America/New_York:20261026T190000
DTEND;TZID=America/New_York:20261026T200000
DTSTAMP:20260421T052317
CREATED:20250909T181340Z
LAST-MODIFIED:20260420T163019Z
UID:10012161-1793041200-1793044800@www.theshaar.org
SUMMARY:Kings\, Princes\, and Prophets
DESCRIPTION:Taught by Yosi Even-Hen\nStep into the world of ancient Israel and witness the remarkable journey of David — from a humble shepherd to the anointed King — as told in the Book of Samuel. \nClick below to join on Zoom: \nhttps://us06web.zoom.us/j/86296690278?pwd=E2RYWrGALMQObdkrNCITinZ0Gytpwl.1 \nMeeting ID: 862 9669 0278\nPasscode: 074293
URL:https://www.theshaar.org/event/kings-princes-and-prophets/2026-10-26/
LOCATION:Online
CATEGORIES:Shaar Learning Center,Main Event
ATTACH;FMTTYPE=image/jpeg:https://www.theshaar.org/wp-content/uploads/2025/09/SH_KingsPrincesProphets_Flyer-scaled.jpg
END:VEVENT
BEGIN:VEVENT
DTSTART;TZID=America/New_York:20261029T193000
DTEND;TZID=America/New_York:20261029T210000
DTSTAMP:20260421T052317
CREATED:20250909T165514Z
LAST-MODIFIED:20251210T200440Z
UID:10011906-1793302200-1793307600@www.theshaar.org
SUMMARY:Parashat Hashavua
DESCRIPTION:Taught by Rabbi Ellis\nCome together for a thoughtful and dynamic exploration of the weekly Torah portion. Each session offers fresh insights and contemporary perspectives\, uncovering the modern relevance and timeless wisdom woven into our holiest text\, the Torah. \nFree and open to all
URL:https://www.theshaar.org/event/parashat-hashavua/2026-10-29/
LOCATION:Congregation Shaar Hashomayim\, 425 Metcalfe Ave\, Westmount\, Quebec\, H3Y 3A2\, Canada
CATEGORIES:Shaar Learning Center,Main Event
ATTACH;FMTTYPE=image/jpeg:https://www.theshaar.org/wp-content/uploads/2025/09/SH_Parshat_Hashavua_Flyer2-scaled.jpg
END:VEVENT
BEGIN:VEVENT
DTSTART;TZID=America/New_York:20261030T113000
DTEND;TZID=America/New_York:20261030T120000
DTSTAMP:20260421T052317
CREATED:20260113T202308Z
LAST-MODIFIED:20260113T202308Z
UID:10013832-1793359800-1793361600@www.theshaar.org
SUMMARY:Parent & Tot Shabbat
DESCRIPTION:
URL:https://www.theshaar.org/event/parent-tot-shabbat/2026-10-30/
LOCATION:Congregation Shaar Hashomayim\, 425 Metcalfe Ave\, Westmount\, Quebec\, H3Y 3A2\, Canada
CATEGORIES:Main Event,Youth & Young Families
ATTACH;FMTTYPE=image/png:https://www.theshaar.org/wp-content/uploads/2026/01/parent-and-tot-winter-2026.png
END:VEVENT
BEGIN:VEVENT
DTSTART;TZID=America/New_York:20261102T190000
DTEND;TZID=America/New_York:20261102T200000
DTSTAMP:20260421T052317
CREATED:20250909T181340Z
LAST-MODIFIED:20260420T163019Z
UID:10012162-1793646000-1793649600@www.theshaar.org
SUMMARY:Kings\, Princes\, and Prophets
DESCRIPTION:Taught by Yosi Even-Hen\nStep into the world of ancient Israel and witness the remarkable journey of David — from a humble shepherd to the anointed King — as told in the Book of Samuel. \nClick below to join on Zoom: \nhttps://us06web.zoom.us/j/86296690278?pwd=E2RYWrGALMQObdkrNCITinZ0Gytpwl.1 \nMeeting ID: 862 9669 0278\nPasscode: 074293
URL:https://www.theshaar.org/event/kings-princes-and-prophets/2026-11-02/
LOCATION:Online
CATEGORIES:Shaar Learning Center,Main Event
ATTACH;FMTTYPE=image/jpeg:https://www.theshaar.org/wp-content/uploads/2025/09/SH_KingsPrincesProphets_Flyer-scaled.jpg
END:VEVENT
BEGIN:VEVENT
DTSTART;TZID=America/New_York:20261105T193000
DTEND;TZID=America/New_York:20261105T210000
DTSTAMP:20260421T052317
CREATED:20250909T165514Z
LAST-MODIFIED:20251210T200440Z
UID:10011907-1793907000-1793912400@www.theshaar.org
SUMMARY:Parashat Hashavua
DESCRIPTION:Taught by Rabbi Ellis\nCome together for a thoughtful and dynamic exploration of the weekly Torah portion. Each session offers fresh insights and contemporary perspectives\, uncovering the modern relevance and timeless wisdom woven into our holiest text\, the Torah. \nFree and open to all
URL:https://www.theshaar.org/event/parashat-hashavua/2026-11-05/
LOCATION:Congregation Shaar Hashomayim\, 425 Metcalfe Ave\, Westmount\, Quebec\, H3Y 3A2\, Canada
CATEGORIES:Shaar Learning Center,Main Event
ATTACH;FMTTYPE=image/jpeg:https://www.theshaar.org/wp-content/uploads/2025/09/SH_Parshat_Hashavua_Flyer2-scaled.jpg
END:VEVENT
BEGIN:VEVENT
DTSTART;TZID=America/New_York:20261106T113000
DTEND;TZID=America/New_York:20261106T120000
DTSTAMP:20260421T052317
CREATED:20260113T202308Z
LAST-MODIFIED:20260113T202308Z
UID:10013833-1793964600-1793966400@www.theshaar.org
SUMMARY:Parent & Tot Shabbat
DESCRIPTION:
URL:https://www.theshaar.org/event/parent-tot-shabbat/2026-11-06/
LOCATION:Congregation Shaar Hashomayim\, 425 Metcalfe Ave\, Westmount\, Quebec\, H3Y 3A2\, Canada
CATEGORIES:Main Event,Youth & Young Families
ATTACH;FMTTYPE=image/png:https://www.theshaar.org/wp-content/uploads/2026/01/parent-and-tot-winter-2026.png
END:VEVENT
BEGIN:VEVENT
DTSTART;TZID=America/New_York:20261109T190000
DTEND;TZID=America/New_York:20261109T200000
DTSTAMP:20260421T052317
CREATED:20250909T181340Z
LAST-MODIFIED:20260420T163019Z
UID:10012163-1794250800-1794254400@www.theshaar.org
SUMMARY:Kings\, Princes\, and Prophets
DESCRIPTION:Taught by Yosi Even-Hen\nStep into the world of ancient Israel and witness the remarkable journey of David — from a humble shepherd to the anointed King — as told in the Book of Samuel. \nClick below to join on Zoom: \nhttps://us06web.zoom.us/j/86296690278?pwd=E2RYWrGALMQObdkrNCITinZ0Gytpwl.1 \nMeeting ID: 862 9669 0278\nPasscode: 074293
URL:https://www.theshaar.org/event/kings-princes-and-prophets/2026-11-09/
LOCATION:Online
CATEGORIES:Shaar Learning Center,Main Event
ATTACH;FMTTYPE=image/jpeg:https://www.theshaar.org/wp-content/uploads/2025/09/SH_KingsPrincesProphets_Flyer-scaled.jpg
END:VEVENT
BEGIN:VEVENT
DTSTART;TZID=America/New_York:20261112T193000
DTEND;TZID=America/New_York:20261112T210000
DTSTAMP:20260421T052318
CREATED:20250909T165514Z
LAST-MODIFIED:20251210T200440Z
UID:10011908-1794511800-1794517200@www.theshaar.org
SUMMARY:Parashat Hashavua
DESCRIPTION:Taught by Rabbi Ellis\nCome together for a thoughtful and dynamic exploration of the weekly Torah portion. Each session offers fresh insights and contemporary perspectives\, uncovering the modern relevance and timeless wisdom woven into our holiest text\, the Torah. \nFree and open to all
URL:https://www.theshaar.org/event/parashat-hashavua/2026-11-12/
LOCATION:Congregation Shaar Hashomayim\, 425 Metcalfe Ave\, Westmount\, Quebec\, H3Y 3A2\, Canada
CATEGORIES:Shaar Learning Center,Main Event
ATTACH;FMTTYPE=image/jpeg:https://www.theshaar.org/wp-content/uploads/2025/09/SH_Parshat_Hashavua_Flyer2-scaled.jpg
END:VEVENT
BEGIN:VEVENT
DTSTART;TZID=America/New_York:20261113T113000
DTEND;TZID=America/New_York:20261113T120000
DTSTAMP:20260421T052318
CREATED:20260113T202308Z
LAST-MODIFIED:20260113T202308Z
UID:10013834-1794569400-1794571200@www.theshaar.org
SUMMARY:Parent & Tot Shabbat
DESCRIPTION:
URL:https://www.theshaar.org/event/parent-tot-shabbat/2026-11-13/
LOCATION:Congregation Shaar Hashomayim\, 425 Metcalfe Ave\, Westmount\, Quebec\, H3Y 3A2\, Canada
CATEGORIES:Main Event,Youth & Young Families
ATTACH;FMTTYPE=image/png:https://www.theshaar.org/wp-content/uploads/2026/01/parent-and-tot-winter-2026.png
END:VEVENT
BEGIN:VEVENT
DTSTART;TZID=America/New_York:20261116T190000
DTEND;TZID=America/New_York:20261116T200000
DTSTAMP:20260421T052318
CREATED:20250909T181340Z
LAST-MODIFIED:20260420T163019Z
UID:10012164-1794855600-1794859200@www.theshaar.org
SUMMARY:Kings\, Princes\, and Prophets
DESCRIPTION:Taught by Yosi Even-Hen\nStep into the world of ancient Israel and witness the remarkable journey of David — from a humble shepherd to the anointed King — as told in the Book of Samuel. \nClick below to join on Zoom: \nhttps://us06web.zoom.us/j/86296690278?pwd=E2RYWrGALMQObdkrNCITinZ0Gytpwl.1 \nMeeting ID: 862 9669 0278\nPasscode: 074293
URL:https://www.theshaar.org/event/kings-princes-and-prophets/2026-11-16/
LOCATION:Online
CATEGORIES:Shaar Learning Center,Main Event
ATTACH;FMTTYPE=image/jpeg:https://www.theshaar.org/wp-content/uploads/2025/09/SH_KingsPrincesProphets_Flyer-scaled.jpg
END:VEVENT
BEGIN:VEVENT
DTSTART;TZID=America/New_York:20261119T193000
DTEND;TZID=America/New_York:20261119T210000
DTSTAMP:20260421T052318
CREATED:20250909T165514Z
LAST-MODIFIED:20251210T200440Z
UID:10011909-1795116600-1795122000@www.theshaar.org
SUMMARY:Parashat Hashavua
DESCRIPTION:Taught by Rabbi Ellis\nCome together for a thoughtful and dynamic exploration of the weekly Torah portion. Each session offers fresh insights and contemporary perspectives\, uncovering the modern relevance and timeless wisdom woven into our holiest text\, the Torah. \nFree and open to all
URL:https://www.theshaar.org/event/parashat-hashavua/2026-11-19/
LOCATION:Congregation Shaar Hashomayim\, 425 Metcalfe Ave\, Westmount\, Quebec\, H3Y 3A2\, Canada
CATEGORIES:Shaar Learning Center,Main Event
ATTACH;FMTTYPE=image/jpeg:https://www.theshaar.org/wp-content/uploads/2025/09/SH_Parshat_Hashavua_Flyer2-scaled.jpg
END:VEVENT
BEGIN:VEVENT
DTSTART;TZID=America/New_York:20261120T113000
DTEND;TZID=America/New_York:20261120T120000
DTSTAMP:20260421T052318
CREATED:20260113T202308Z
LAST-MODIFIED:20260113T202308Z
UID:10013835-1795174200-1795176000@www.theshaar.org
SUMMARY:Parent & Tot Shabbat
DESCRIPTION:
URL:https://www.theshaar.org/event/parent-tot-shabbat/2026-11-20/
LOCATION:Congregation Shaar Hashomayim\, 425 Metcalfe Ave\, Westmount\, Quebec\, H3Y 3A2\, Canada
CATEGORIES:Main Event,Youth & Young Families
ATTACH;FMTTYPE=image/png:https://www.theshaar.org/wp-content/uploads/2026/01/parent-and-tot-winter-2026.png
END:VEVENT
BEGIN:VEVENT
DTSTART;TZID=America/New_York:20261123T190000
DTEND;TZID=America/New_York:20261123T200000
DTSTAMP:20260421T052318
CREATED:20250909T181340Z
LAST-MODIFIED:20260420T163019Z
UID:10012165-1795460400-1795464000@www.theshaar.org
SUMMARY:Kings\, Princes\, and Prophets
DESCRIPTION:Taught by Yosi Even-Hen\nStep into the world of ancient Israel and witness the remarkable journey of David — from a humble shepherd to the anointed King — as told in the Book of Samuel. \nClick below to join on Zoom: \nhttps://us06web.zoom.us/j/86296690278?pwd=E2RYWrGALMQObdkrNCITinZ0Gytpwl.1 \nMeeting ID: 862 9669 0278\nPasscode: 074293
URL:https://www.theshaar.org/event/kings-princes-and-prophets/2026-11-23/
LOCATION:Online
CATEGORIES:Shaar Learning Center,Main Event
ATTACH;FMTTYPE=image/jpeg:https://www.theshaar.org/wp-content/uploads/2025/09/SH_KingsPrincesProphets_Flyer-scaled.jpg
END:VEVENT
BEGIN:VEVENT
DTSTART;TZID=America/New_York:20261126T193000
DTEND;TZID=America/New_York:20261126T210000
DTSTAMP:20260421T052318
CREATED:20250909T165514Z
LAST-MODIFIED:20251210T200440Z
UID:10011910-1795721400-1795726800@www.theshaar.org
SUMMARY:Parashat Hashavua
DESCRIPTION:Taught by Rabbi Ellis\nCome together for a thoughtful and dynamic exploration of the weekly Torah portion. Each session offers fresh insights and contemporary perspectives\, uncovering the modern relevance and timeless wisdom woven into our holiest text\, the Torah. \nFree and open to all
URL:https://www.theshaar.org/event/parashat-hashavua/2026-11-26/
LOCATION:Congregation Shaar Hashomayim\, 425 Metcalfe Ave\, Westmount\, Quebec\, H3Y 3A2\, Canada
CATEGORIES:Shaar Learning Center,Main Event
ATTACH;FMTTYPE=image/jpeg:https://www.theshaar.org/wp-content/uploads/2025/09/SH_Parshat_Hashavua_Flyer2-scaled.jpg
END:VEVENT
BEGIN:VEVENT
DTSTART;TZID=America/New_York:20261127T113000
DTEND;TZID=America/New_York:20261127T120000
DTSTAMP:20260421T052318
CREATED:20260113T202308Z
LAST-MODIFIED:20260113T202308Z
UID:10013836-1795779000-1795780800@www.theshaar.org
SUMMARY:Parent & Tot Shabbat
DESCRIPTION:
URL:https://www.theshaar.org/event/parent-tot-shabbat/2026-11-27/
LOCATION:Congregation Shaar Hashomayim\, 425 Metcalfe Ave\, Westmount\, Quebec\, H3Y 3A2\, Canada
CATEGORIES:Main Event,Youth & Young Families
ATTACH;FMTTYPE=image/png:https://www.theshaar.org/wp-content/uploads/2026/01/parent-and-tot-winter-2026.png
END:VEVENT
BEGIN:VEVENT
DTSTART;TZID=America/New_York:20261130T190000
DTEND;TZID=America/New_York:20261130T200000
DTSTAMP:20260421T052318
CREATED:20250909T181340Z
LAST-MODIFIED:20260420T163019Z
UID:10012166-1796065200-1796068800@www.theshaar.org
SUMMARY:Kings\, Princes\, and Prophets
DESCRIPTION:Taught by Yosi Even-Hen\nStep into the world of ancient Israel and witness the remarkable journey of David — from a humble shepherd to the anointed King — as told in the Book of Samuel. \nClick below to join on Zoom: \nhttps://us06web.zoom.us/j/86296690278?pwd=E2RYWrGALMQObdkrNCITinZ0Gytpwl.1 \nMeeting ID: 862 9669 0278\nPasscode: 074293
URL:https://www.theshaar.org/event/kings-princes-and-prophets/2026-11-30/
LOCATION:Online
CATEGORIES:Shaar Learning Center,Main Event
ATTACH;FMTTYPE=image/jpeg:https://www.theshaar.org/wp-content/uploads/2025/09/SH_KingsPrincesProphets_Flyer-scaled.jpg
END:VEVENT
BEGIN:VEVENT
DTSTART;TZID=America/New_York:20261203T193000
DTEND;TZID=America/New_York:20261203T210000
DTSTAMP:20260421T052318
CREATED:20250909T165514Z
LAST-MODIFIED:20251210T200440Z
UID:10011911-1796326200-1796331600@www.theshaar.org
SUMMARY:Parashat Hashavua
DESCRIPTION:Taught by Rabbi Ellis\nCome together for a thoughtful and dynamic exploration of the weekly Torah portion. Each session offers fresh insights and contemporary perspectives\, uncovering the modern relevance and timeless wisdom woven into our holiest text\, the Torah. \nFree and open to all
URL:https://www.theshaar.org/event/parashat-hashavua/2026-12-03/
LOCATION:Congregation Shaar Hashomayim\, 425 Metcalfe Ave\, Westmount\, Quebec\, H3Y 3A2\, Canada
CATEGORIES:Shaar Learning Center,Main Event
ATTACH;FMTTYPE=image/jpeg:https://www.theshaar.org/wp-content/uploads/2025/09/SH_Parshat_Hashavua_Flyer2-scaled.jpg
END:VEVENT
BEGIN:VEVENT
DTSTART;TZID=America/New_York:20261204T113000
DTEND;TZID=America/New_York:20261204T120000
DTSTAMP:20260421T052318
CREATED:20260113T202308Z
LAST-MODIFIED:20260113T202308Z
UID:10013837-1796383800-1796385600@www.theshaar.org
SUMMARY:Parent & Tot Shabbat
DESCRIPTION:
URL:https://www.theshaar.org/event/parent-tot-shabbat/2026-12-04/
LOCATION:Congregation Shaar Hashomayim\, 425 Metcalfe Ave\, Westmount\, Quebec\, H3Y 3A2\, Canada
CATEGORIES:Main Event,Youth & Young Families
ATTACH;FMTTYPE=image/png:https://www.theshaar.org/wp-content/uploads/2026/01/parent-and-tot-winter-2026.png
END:VEVENT
BEGIN:VEVENT
DTSTART;TZID=America/New_York:20261207T190000
DTEND;TZID=America/New_York:20261207T200000
DTSTAMP:20260421T052318
CREATED:20250909T181340Z
LAST-MODIFIED:20260420T163019Z
UID:10012167-1796670000-1796673600@www.theshaar.org
SUMMARY:Kings\, Princes\, and Prophets
DESCRIPTION:Taught by Yosi Even-Hen\nStep into the world of ancient Israel and witness the remarkable journey of David — from a humble shepherd to the anointed King — as told in the Book of Samuel. \nClick below to join on Zoom: \nhttps://us06web.zoom.us/j/86296690278?pwd=E2RYWrGALMQObdkrNCITinZ0Gytpwl.1 \nMeeting ID: 862 9669 0278\nPasscode: 074293
URL:https://www.theshaar.org/event/kings-princes-and-prophets/2026-12-07/
LOCATION:Online
CATEGORIES:Shaar Learning Center,Main Event
ATTACH;FMTTYPE=image/jpeg:https://www.theshaar.org/wp-content/uploads/2025/09/SH_KingsPrincesProphets_Flyer-scaled.jpg
END:VEVENT
BEGIN:VEVENT
DTSTART;TZID=America/New_York:20261210T193000
DTEND;TZID=America/New_York:20261210T210000
DTSTAMP:20260421T052318
CREATED:20250909T165514Z
LAST-MODIFIED:20251210T200440Z
UID:10011912-1796931000-1796936400@www.theshaar.org
SUMMARY:Parashat Hashavua
DESCRIPTION:Taught by Rabbi Ellis\nCome together for a thoughtful and dynamic exploration of the weekly Torah portion. Each session offers fresh insights and contemporary perspectives\, uncovering the modern relevance and timeless wisdom woven into our holiest text\, the Torah. \nFree and open to all
URL:https://www.theshaar.org/event/parashat-hashavua/2026-12-10/
LOCATION:Congregation Shaar Hashomayim\, 425 Metcalfe Ave\, Westmount\, Quebec\, H3Y 3A2\, Canada
CATEGORIES:Shaar Learning Center,Main Event
ATTACH;FMTTYPE=image/jpeg:https://www.theshaar.org/wp-content/uploads/2025/09/SH_Parshat_Hashavua_Flyer2-scaled.jpg
END:VEVENT
BEGIN:VEVENT
DTSTART;TZID=America/New_York:20261211T113000
DTEND;TZID=America/New_York:20261211T120000
DTSTAMP:20260421T052318
CREATED:20260113T202308Z
LAST-MODIFIED:20260113T202308Z
UID:10013838-1796988600-1796990400@www.theshaar.org
SUMMARY:Parent & Tot Shabbat
DESCRIPTION:
URL:https://www.theshaar.org/event/parent-tot-shabbat/2026-12-11/
LOCATION:Congregation Shaar Hashomayim\, 425 Metcalfe Ave\, Westmount\, Quebec\, H3Y 3A2\, Canada
CATEGORIES:Main Event,Youth & Young Families
ATTACH;FMTTYPE=image/png:https://www.theshaar.org/wp-content/uploads/2026/01/parent-and-tot-winter-2026.png
END:VEVENT
BEGIN:VEVENT
DTSTART;TZID=America/New_York:20261214T190000
DTEND;TZID=America/New_York:20261214T200000
DTSTAMP:20260421T052318
CREATED:20250909T181340Z
LAST-MODIFIED:20260420T163019Z
UID:10012168-1797274800-1797278400@www.theshaar.org
SUMMARY:Kings\, Princes\, and Prophets
DESCRIPTION:Taught by Yosi Even-Hen\nStep into the world of ancient Israel and witness the remarkable journey of David — from a humble shepherd to the anointed King — as told in the Book of Samuel. \nClick below to join on Zoom: \nhttps://us06web.zoom.us/j/86296690278?pwd=E2RYWrGALMQObdkrNCITinZ0Gytpwl.1 \nMeeting ID: 862 9669 0278\nPasscode: 074293
URL:https://www.theshaar.org/event/kings-princes-and-prophets/2026-12-14/
LOCATION:Online
CATEGORIES:Shaar Learning Center,Main Event
ATTACH;FMTTYPE=image/jpeg:https://www.theshaar.org/wp-content/uploads/2025/09/SH_KingsPrincesProphets_Flyer-scaled.jpg
END:VEVENT
BEGIN:VEVENT
DTSTART;TZID=America/New_York:20261217T193000
DTEND;TZID=America/New_York:20261217T210000
DTSTAMP:20260421T052318
CREATED:20250909T165514Z
LAST-MODIFIED:20251210T200440Z
UID:10011913-1797535800-1797541200@www.theshaar.org
SUMMARY:Parashat Hashavua
DESCRIPTION:Taught by Rabbi Ellis\nCome together for a thoughtful and dynamic exploration of the weekly Torah portion. Each session offers fresh insights and contemporary perspectives\, uncovering the modern relevance and timeless wisdom woven into our holiest text\, the Torah. \nFree and open to all
URL:https://www.theshaar.org/event/parashat-hashavua/2026-12-17/
LOCATION:Congregation Shaar Hashomayim\, 425 Metcalfe Ave\, Westmount\, Quebec\, H3Y 3A2\, Canada
CATEGORIES:Shaar Learning Center,Main Event
ATTACH;FMTTYPE=image/jpeg:https://www.theshaar.org/wp-content/uploads/2025/09/SH_Parshat_Hashavua_Flyer2-scaled.jpg
END:VEVENT
BEGIN:VEVENT
DTSTART;TZID=America/New_York:20261218T113000
DTEND;TZID=America/New_York:20261218T120000
DTSTAMP:20260421T052318
CREATED:20260113T202308Z
LAST-MODIFIED:20260113T202308Z
UID:10013839-1797593400-1797595200@www.theshaar.org
SUMMARY:Parent & Tot Shabbat
DESCRIPTION:
URL:https://www.theshaar.org/event/parent-tot-shabbat/2026-12-18/
LOCATION:Congregation Shaar Hashomayim\, 425 Metcalfe Ave\, Westmount\, Quebec\, H3Y 3A2\, Canada
CATEGORIES:Main Event,Youth & Young Families
ATTACH;FMTTYPE=image/png:https://www.theshaar.org/wp-content/uploads/2026/01/parent-and-tot-winter-2026.png
END:VEVENT
BEGIN:VEVENT
DTSTART;TZID=America/New_York:20261221T190000
DTEND;TZID=America/New_York:20261221T200000
DTSTAMP:20260421T052318
CREATED:20250909T181340Z
LAST-MODIFIED:20260420T163019Z
UID:10012169-1797879600-1797883200@www.theshaar.org
SUMMARY:Kings\, Princes\, and Prophets
DESCRIPTION:Taught by Yosi Even-Hen\nStep into the world of ancient Israel and witness the remarkable journey of David — from a humble shepherd to the anointed King — as told in the Book of Samuel. \nClick below to join on Zoom: \nhttps://us06web.zoom.us/j/86296690278?pwd=E2RYWrGALMQObdkrNCITinZ0Gytpwl.1 \nMeeting ID: 862 9669 0278\nPasscode: 074293
URL:https://www.theshaar.org/event/kings-princes-and-prophets/2026-12-21/
LOCATION:Online
CATEGORIES:Shaar Learning Center,Main Event
ATTACH;FMTTYPE=image/jpeg:https://www.theshaar.org/wp-content/uploads/2025/09/SH_KingsPrincesProphets_Flyer-scaled.jpg
END:VEVENT
BEGIN:VEVENT
DTSTART;TZID=America/New_York:20261224T193000
DTEND;TZID=America/New_York:20261224T210000
DTSTAMP:20260421T052318
CREATED:20250909T165514Z
LAST-MODIFIED:20251210T200440Z
UID:10011914-1798140600-1798146000@www.theshaar.org
SUMMARY:Parashat Hashavua
DESCRIPTION:Taught by Rabbi Ellis\nCome together for a thoughtful and dynamic exploration of the weekly Torah portion. Each session offers fresh insights and contemporary perspectives\, uncovering the modern relevance and timeless wisdom woven into our holiest text\, the Torah. \nFree and open to all
URL:https://www.theshaar.org/event/parashat-hashavua/2026-12-24/
LOCATION:Congregation Shaar Hashomayim\, 425 Metcalfe Ave\, Westmount\, Quebec\, H3Y 3A2\, Canada
CATEGORIES:Shaar Learning Center,Main Event
ATTACH;FMTTYPE=image/jpeg:https://www.theshaar.org/wp-content/uploads/2025/09/SH_Parshat_Hashavua_Flyer2-scaled.jpg
END:VEVENT
END:VCALENDAR