BEGIN:VCALENDAR
VERSION:2.0
PRODID:-//The Shaar - ECPv6.15.20//NONSGML v1.0//EN
CALSCALE:GREGORIAN
METHOD:PUBLISH
X-WR-CALNAME:The Shaar
X-ORIGINAL-URL:https://www.theshaar.org
X-WR-CALDESC:Events for The Shaar
REFRESH-INTERVAL;VALUE=DURATION:PT1H
X-Robots-Tag:noindex
X-PUBLISHED-TTL:PT1H
BEGIN:VTIMEZONE
TZID:America/New_York
BEGIN:DAYLIGHT
TZOFFSETFROM:-0500
TZOFFSETTO:-0400
TZNAME:EDT
DTSTART:20250309T070000
END:DAYLIGHT
BEGIN:STANDARD
TZOFFSETFROM:-0400
TZOFFSETTO:-0500
TZNAME:EST
DTSTART:20251102T060000
END:STANDARD
BEGIN:DAYLIGHT
TZOFFSETFROM:-0500
TZOFFSETTO:-0400
TZNAME:EDT
DTSTART:20260308T070000
END:DAYLIGHT
BEGIN:STANDARD
TZOFFSETFROM:-0400
TZOFFSETTO:-0500
TZNAME:EST
DTSTART:20261101T060000
END:STANDARD
BEGIN:DAYLIGHT
TZOFFSETFROM:-0500
TZOFFSETTO:-0400
TZNAME:EDT
DTSTART:20270314T070000
END:DAYLIGHT
BEGIN:STANDARD
TZOFFSETFROM:-0400
TZOFFSETTO:-0500
TZNAME:EST
DTSTART:20271107T060000
END:STANDARD
END:VTIMEZONE
BEGIN:VEVENT
DTSTART;TZID=America/New_York:20260622T180000
DTEND;TZID=America/New_York:20260622T190000
DTSTAMP:20260421T051019
CREATED:20260331T151115Z
LAST-MODIFIED:20260331T151115Z
UID:10014394-1782151200-1782154800@www.theshaar.org
SUMMARY:Hebrew - Level 4 - Conversational Hebrew & Reading Comprehension
DESCRIPTION:
URL:https://www.theshaar.org/event/hebrew-spring2026-level4/2026-06-22/
LOCATION:Congregation Shaar Hashomayim\, 425 Metcalfe Ave\, Westmount\, Quebec\, H3Y 3A2\, Canada
CATEGORIES:Shaar Learning Center,Main Event
ATTACH;FMTTYPE=image/jpeg:https://www.theshaar.org/wp-content/uploads/2025/07/SLC_Hebrew_Galia-scaled.jpg
END:VEVENT
BEGIN:VEVENT
DTSTART;TZID=America/New_York:20260622T190000
DTEND;TZID=America/New_York:20260622T193000
DTSTAMP:20260421T051019
CREATED:20260319T153400Z
LAST-MODIFIED:20260319T192807Z
UID:10014283-1782154800-1782156600@www.theshaar.org
SUMMARY:Mincha/Ma’ariv
DESCRIPTION:
URL:https://www.theshaar.org/event/mincha-maariv-10/2026-06-22/
LOCATION:Quebec
CATEGORIES:Service Times
END:VEVENT
BEGIN:VEVENT
DTSTART;TZID=America/New_York:20260622T190000
DTEND;TZID=America/New_York:20260622T200000
DTSTAMP:20260421T051019
CREATED:20250909T181340Z
LAST-MODIFIED:20260420T163019Z
UID:10012143-1782154800-1782158400@www.theshaar.org
SUMMARY:Kings\, Princes\, and Prophets
DESCRIPTION:Taught by Yosi Even-Hen\nStep into the world of ancient Israel and witness the remarkable journey of David — from a humble shepherd to the anointed King — as told in the Book of Samuel. \nClick below to join on Zoom: \nhttps://us06web.zoom.us/j/86296690278?pwd=E2RYWrGALMQObdkrNCITinZ0Gytpwl.1 \nMeeting ID: 862 9669 0278\nPasscode: 074293
URL:https://www.theshaar.org/event/kings-princes-and-prophets/2026-06-22/
LOCATION:Online
CATEGORIES:Shaar Learning Center,Main Event
ATTACH;FMTTYPE=image/jpeg:https://www.theshaar.org/wp-content/uploads/2025/09/SH_KingsPrincesProphets_Flyer-scaled.jpg
END:VEVENT
BEGIN:VEVENT
DTSTART;TZID=America/New_York:20260622T190000
DTEND;TZID=America/New_York:20260622T200000
DTSTAMP:20260421T051019
CREATED:20260331T150605Z
LAST-MODIFIED:20260331T151516Z
UID:10014372-1782154800-1782158400@www.theshaar.org
SUMMARY:Hebrew - Level 2 - Basic Vocabulary and Everyday Expressions
DESCRIPTION:
URL:https://www.theshaar.org/event/hebrew-spring2026-level2/2026-06-22/
LOCATION:Congregation Shaar Hashomayim\, 425 Metcalfe Ave\, Westmount\, Quebec\, H3Y 3A2\, Canada
CATEGORIES:Shaar Learning Center,Main Event
ATTACH;FMTTYPE=image/jpeg:https://www.theshaar.org/wp-content/uploads/2025/07/SLC_Hebrew_Merav-scaled.jpg
END:VEVENT
BEGIN:VEVENT
DTSTART;TZID=America/New_York:20260622T190000
DTEND;TZID=America/New_York:20260622T200000
DTSTAMP:20260421T051019
CREATED:20260331T151304Z
LAST-MODIFIED:20260331T151304Z
UID:10014405-1782154800-1782158400@www.theshaar.org
SUMMARY:Hebrew - Level 5 - Communication and Grammar
DESCRIPTION:
URL:https://www.theshaar.org/event/hebrew-level-5-communication-and-grammar/2026-06-22/
LOCATION:Congregation Shaar Hashomayim\, 425 Metcalfe Ave\, Westmount\, Quebec\, H3Y 3A2\, Canada
CATEGORIES:Shaar Learning Center,Main Event
ATTACH;FMTTYPE=image/jpeg:https://www.theshaar.org/wp-content/uploads/2025/07/SLC_Hebrew_Galia-scaled.jpg
END:VEVENT
BEGIN:VEVENT
DTSTART;TZID=America/New_York:20260622T200000
DTEND;TZID=America/New_York:20260622T210000
DTSTAMP:20260421T051019
CREATED:20260331T150858Z
LAST-MODIFIED:20260331T150858Z
UID:10014383-1782158400-1782162000@www.theshaar.org
SUMMARY:Hebrew - Level 3 - Building Sentences and Basic Grammar
DESCRIPTION:
URL:https://www.theshaar.org/event/hebrew-spring2026-level3/2026-06-22/
LOCATION:Congregation Shaar Hashomayim\, 425 Metcalfe Ave\, Westmount\, Quebec\, H3Y 3A2\, Canada
CATEGORIES:Shaar Learning Center,Main Event
ATTACH;FMTTYPE=image/jpeg:https://www.theshaar.org/wp-content/uploads/2025/07/SLC_Hebrew_Merav-scaled.jpg
END:VEVENT
BEGIN:VEVENT
DTSTART;TZID=America/New_York:20260623T073000
DTEND;TZID=America/New_York:20260623T083000
DTSTAMP:20260421T051019
CREATED:20260318T204636Z
LAST-MODIFIED:20260319T190459Z
UID:10014265-1782199800-1782203400@www.theshaar.org
SUMMARY:Shacharit
DESCRIPTION:
URL:https://www.theshaar.org/event/shacharit-297/2026-06-23/
LOCATION:Quebec
CATEGORIES:Service Times
END:VEVENT
BEGIN:VEVENT
DTSTART;TZID=America/New_York:20260623T190000
DTEND;TZID=America/New_York:20260623T193000
DTSTAMP:20260421T051019
CREATED:20260319T153400Z
LAST-MODIFIED:20260319T192807Z
UID:10014284-1782241200-1782243000@www.theshaar.org
SUMMARY:Mincha/Ma’ariv
DESCRIPTION:
URL:https://www.theshaar.org/event/mincha-maariv-10/2026-06-23/
LOCATION:Quebec
CATEGORIES:Service Times
END:VEVENT
BEGIN:VEVENT
DTSTART;VALUE=DATE:20260624
DTEND;VALUE=DATE:20260625
DTSTAMP:20260421T051019
CREATED:20260319T162946Z
LAST-MODIFIED:20260319T162946Z
UID:10014239-1782259200-1782345599@www.theshaar.org
SUMMARY:Statutory holiday (Fete Nationale)
DESCRIPTION:
URL:https://www.theshaar.org/event/statutory-holiday-fete-nationale/
LOCATION:Quebec
CATEGORIES:Jewish Holidays,Service Times
END:VEVENT
BEGIN:VEVENT
DTSTART;TZID=America/New_York:20260624T080000
DTEND;TZID=America/New_York:20260624T090000
DTSTAMP:20260421T051019
CREATED:20260318T204636Z
LAST-MODIFIED:20260319T190459Z
UID:10014266-1782288000-1782291600@www.theshaar.org
SUMMARY:Shacharit
DESCRIPTION:
URL:https://www.theshaar.org/event/shacharit-297/2026-06-24/
LOCATION:Quebec
CATEGORIES:Service Times
END:VEVENT
BEGIN:VEVENT
DTSTART;TZID=America/New_York:20260624T190000
DTEND;TZID=America/New_York:20260624T193000
DTSTAMP:20260421T051019
CREATED:20260319T153400Z
LAST-MODIFIED:20260319T192807Z
UID:10014285-1782327600-1782329400@www.theshaar.org
SUMMARY:Mincha/Ma’ariv
DESCRIPTION:
URL:https://www.theshaar.org/event/mincha-maariv-10/2026-06-24/
LOCATION:Quebec
CATEGORIES:Service Times
END:VEVENT
BEGIN:VEVENT
DTSTART;TZID=America/New_York:20260625T073000
DTEND;TZID=America/New_York:20260625T083000
DTSTAMP:20260421T051019
CREATED:20260318T204636Z
LAST-MODIFIED:20260319T190459Z
UID:10014267-1782372600-1782376200@www.theshaar.org
SUMMARY:Shacharit
DESCRIPTION:
URL:https://www.theshaar.org/event/shacharit-297/2026-06-25/
LOCATION:Quebec
CATEGORIES:Service Times
END:VEVENT
BEGIN:VEVENT
DTSTART;TZID=America/New_York:20260625T190000
DTEND;TZID=America/New_York:20260625T193000
DTSTAMP:20260421T051019
CREATED:20260319T153400Z
LAST-MODIFIED:20260319T192807Z
UID:10014286-1782414000-1782415800@www.theshaar.org
SUMMARY:Mincha/Ma’ariv
DESCRIPTION:
URL:https://www.theshaar.org/event/mincha-maariv-10/2026-06-25/
LOCATION:Quebec
CATEGORIES:Service Times
END:VEVENT
BEGIN:VEVENT
DTSTART;TZID=America/New_York:20260625T193000
DTEND;TZID=America/New_York:20260625T210000
DTSTAMP:20260421T051019
CREATED:20250909T165514Z
LAST-MODIFIED:20251210T200440Z
UID:10011888-1782415800-1782421200@www.theshaar.org
SUMMARY:Parashat Hashavua
DESCRIPTION:Taught by Rabbi Ellis\nCome together for a thoughtful and dynamic exploration of the weekly Torah portion. Each session offers fresh insights and contemporary perspectives\, uncovering the modern relevance and timeless wisdom woven into our holiest text\, the Torah. \nFree and open to all
URL:https://www.theshaar.org/event/parashat-hashavua/2026-06-25/
LOCATION:Congregation Shaar Hashomayim\, 425 Metcalfe Ave\, Westmount\, Quebec\, H3Y 3A2\, Canada
CATEGORIES:Shaar Learning Center,Main Event
ATTACH;FMTTYPE=image/jpeg:https://www.theshaar.org/wp-content/uploads/2025/09/SH_Parshat_Hashavua_Flyer2-scaled.jpg
END:VEVENT
BEGIN:VEVENT
DTSTART;TZID=America/New_York:20260626T073000
DTEND;TZID=America/New_York:20260626T083000
DTSTAMP:20260421T051019
CREATED:20260318T204636Z
LAST-MODIFIED:20260319T190459Z
UID:10014268-1782459000-1782462600@www.theshaar.org
SUMMARY:Shacharit
DESCRIPTION:
URL:https://www.theshaar.org/event/shacharit-297/2026-06-26/
LOCATION:Quebec
CATEGORIES:Service Times
END:VEVENT
BEGIN:VEVENT
DTSTART;TZID=America/New_York:20260626T113000
DTEND;TZID=America/New_York:20260626T120000
DTSTAMP:20260421T051019
CREATED:20260113T202308Z
LAST-MODIFIED:20260113T202308Z
UID:10013814-1782473400-1782475200@www.theshaar.org
SUMMARY:Parent & Tot Shabbat
DESCRIPTION:
URL:https://www.theshaar.org/event/parent-tot-shabbat/2026-06-26/
LOCATION:Congregation Shaar Hashomayim\, 425 Metcalfe Ave\, Westmount\, Quebec\, H3Y 3A2\, Canada
CATEGORIES:Main Event,Youth & Young Families
ATTACH;FMTTYPE=image/png:https://www.theshaar.org/wp-content/uploads/2026/01/parent-and-tot-winter-2026.png
END:VEVENT
BEGIN:VEVENT
DTSTART;TZID=America/New_York:20260626T190000
DTEND;TZID=America/New_York:20260626T193000
DTSTAMP:20260421T051019
CREATED:20260318T182108Z
LAST-MODIFIED:20260318T182108Z
UID:10014129-1782500400-1782502200@www.theshaar.org
SUMMARY:Mincha/Kabbalat Shabbat
DESCRIPTION:
URL:https://www.theshaar.org/event/mincha-kabbalat-shabbat-3/2026-06-26/
LOCATION:Quebec
CATEGORIES:Service Times
END:VEVENT
BEGIN:VEVENT
DTSTART;TZID=America/New_York:20260626T202900
DTEND;TZID=America/New_York:20260626T202900
DTSTAMP:20260421T051019
CREATED:20260318T190408Z
LAST-MODIFIED:20260319T154716Z
UID:10014146-1782505740-1782505740@www.theshaar.org
SUMMARY:Candles
DESCRIPTION:
URL:https://www.theshaar.org/event/candles-55/2026-06-26/
LOCATION:Quebec
CATEGORIES:Service Times
END:VEVENT
BEGIN:VEVENT
DTSTART;TZID=America/New_York:20260627T093000
DTEND;TZID=America/New_York:20260627T120000
DTSTAMP:20260421T051019
CREATED:20260318T204636Z
LAST-MODIFIED:20260319T190459Z
UID:10014269-1782552600-1782561600@www.theshaar.org
SUMMARY:Shacharit
DESCRIPTION:
URL:https://www.theshaar.org/event/shacharit-297/2026-06-27/
LOCATION:Quebec
CATEGORIES:Service Times
END:VEVENT
BEGIN:VEVENT
DTSTART;TZID=America/New_York:20260627T202000
DTEND;TZID=America/New_York:20260627T205000
DTSTAMP:20260421T051019
CREATED:20260319T153400Z
LAST-MODIFIED:20260319T192807Z
UID:10014287-1782591600-1782593400@www.theshaar.org
SUMMARY:Mincha/Ma’ariv
DESCRIPTION:
URL:https://www.theshaar.org/event/mincha-maariv-10/2026-06-27/
LOCATION:Quebec
CATEGORIES:Service Times
END:VEVENT
BEGIN:VEVENT
DTSTART;TZID=America/New_York:20260627T214600
DTEND;TZID=America/New_York:20260627T214600
DTSTAMP:20260421T051019
CREATED:20260318T191515Z
LAST-MODIFIED:20260318T193234Z
UID:10014160-1782596760-1782596760@www.theshaar.org
SUMMARY:Havdalah
DESCRIPTION:
URL:https://www.theshaar.org/event/havdalah-40/2026-06-27/
LOCATION:Quebec
CATEGORIES:Service Times
END:VEVENT
BEGIN:VEVENT
DTSTART;TZID=America/New_York:20260629T190000
DTEND;TZID=America/New_York:20260629T200000
DTSTAMP:20260421T051019
CREATED:20250909T181340Z
LAST-MODIFIED:20260420T163019Z
UID:10012144-1782759600-1782763200@www.theshaar.org
SUMMARY:Kings\, Princes\, and Prophets
DESCRIPTION:Taught by Yosi Even-Hen\nStep into the world of ancient Israel and witness the remarkable journey of David — from a humble shepherd to the anointed King — as told in the Book of Samuel. \nClick below to join on Zoom: \nhttps://us06web.zoom.us/j/86296690278?pwd=E2RYWrGALMQObdkrNCITinZ0Gytpwl.1 \nMeeting ID: 862 9669 0278\nPasscode: 074293
URL:https://www.theshaar.org/event/kings-princes-and-prophets/2026-06-29/
LOCATION:Online
CATEGORIES:Shaar Learning Center,Main Event
ATTACH;FMTTYPE=image/jpeg:https://www.theshaar.org/wp-content/uploads/2025/09/SH_KingsPrincesProphets_Flyer-scaled.jpg
END:VEVENT
BEGIN:VEVENT
DTSTART;VALUE=DATE:20260701
DTEND;VALUE=DATE:20260702
DTSTAMP:20260421T051020
CREATED:20260319T163916Z
LAST-MODIFIED:20260319T164301Z
UID:10014241-1782864000-1782950399@www.theshaar.org
SUMMARY:Statutory holiday (Canada Day)
DESCRIPTION:
URL:https://www.theshaar.org/event/statutory-holiday-canada-day/
LOCATION:Quebec
CATEGORIES:Jewish Holidays,Service Times
END:VEVENT
BEGIN:VEVENT
DTSTART;TZID=America/New_York:20260702T193000
DTEND;TZID=America/New_York:20260702T210000
DTSTAMP:20260421T051020
CREATED:20250909T165514Z
LAST-MODIFIED:20251210T200440Z
UID:10011889-1783020600-1783026000@www.theshaar.org
SUMMARY:Parashat Hashavua
DESCRIPTION:Taught by Rabbi Ellis\nCome together for a thoughtful and dynamic exploration of the weekly Torah portion. Each session offers fresh insights and contemporary perspectives\, uncovering the modern relevance and timeless wisdom woven into our holiest text\, the Torah. \nFree and open to all
URL:https://www.theshaar.org/event/parashat-hashavua/2026-07-02/
LOCATION:Congregation Shaar Hashomayim\, 425 Metcalfe Ave\, Westmount\, Quebec\, H3Y 3A2\, Canada
CATEGORIES:Shaar Learning Center,Main Event
ATTACH;FMTTYPE=image/jpeg:https://www.theshaar.org/wp-content/uploads/2025/09/SH_Parshat_Hashavua_Flyer2-scaled.jpg
END:VEVENT
BEGIN:VEVENT
DTSTART;TZID=America/New_York:20260703T113000
DTEND;TZID=America/New_York:20260703T120000
DTSTAMP:20260421T051020
CREATED:20260113T202308Z
LAST-MODIFIED:20260113T202308Z
UID:10013815-1783078200-1783080000@www.theshaar.org
SUMMARY:Parent & Tot Shabbat
DESCRIPTION:
URL:https://www.theshaar.org/event/parent-tot-shabbat/2026-07-03/
LOCATION:Congregation Shaar Hashomayim\, 425 Metcalfe Ave\, Westmount\, Quebec\, H3Y 3A2\, Canada
CATEGORIES:Main Event,Youth & Young Families
ATTACH;FMTTYPE=image/png:https://www.theshaar.org/wp-content/uploads/2026/01/parent-and-tot-winter-2026.png
END:VEVENT
BEGIN:VEVENT
DTSTART;TZID=America/New_York:20260706T190000
DTEND;TZID=America/New_York:20260706T200000
DTSTAMP:20260421T051020
CREATED:20250909T181340Z
LAST-MODIFIED:20260420T163019Z
UID:10012145-1783364400-1783368000@www.theshaar.org
SUMMARY:Kings\, Princes\, and Prophets
DESCRIPTION:Taught by Yosi Even-Hen\nStep into the world of ancient Israel and witness the remarkable journey of David — from a humble shepherd to the anointed King — as told in the Book of Samuel. \nClick below to join on Zoom: \nhttps://us06web.zoom.us/j/86296690278?pwd=E2RYWrGALMQObdkrNCITinZ0Gytpwl.1 \nMeeting ID: 862 9669 0278\nPasscode: 074293
URL:https://www.theshaar.org/event/kings-princes-and-prophets/2026-07-06/
LOCATION:Online
CATEGORIES:Shaar Learning Center,Main Event
ATTACH;FMTTYPE=image/jpeg:https://www.theshaar.org/wp-content/uploads/2025/09/SH_KingsPrincesProphets_Flyer-scaled.jpg
END:VEVENT
BEGIN:VEVENT
DTSTART;TZID=America/New_York:20260709T193000
DTEND;TZID=America/New_York:20260709T210000
DTSTAMP:20260421T051020
CREATED:20250909T165514Z
LAST-MODIFIED:20251210T200440Z
UID:10011890-1783625400-1783630800@www.theshaar.org
SUMMARY:Parashat Hashavua
DESCRIPTION:Taught by Rabbi Ellis\nCome together for a thoughtful and dynamic exploration of the weekly Torah portion. Each session offers fresh insights and contemporary perspectives\, uncovering the modern relevance and timeless wisdom woven into our holiest text\, the Torah. \nFree and open to all
URL:https://www.theshaar.org/event/parashat-hashavua/2026-07-09/
LOCATION:Congregation Shaar Hashomayim\, 425 Metcalfe Ave\, Westmount\, Quebec\, H3Y 3A2\, Canada
CATEGORIES:Shaar Learning Center,Main Event
ATTACH;FMTTYPE=image/jpeg:https://www.theshaar.org/wp-content/uploads/2025/09/SH_Parshat_Hashavua_Flyer2-scaled.jpg
END:VEVENT
BEGIN:VEVENT
DTSTART;TZID=America/New_York:20260710T113000
DTEND;TZID=America/New_York:20260710T120000
DTSTAMP:20260421T051020
CREATED:20260113T202308Z
LAST-MODIFIED:20260113T202308Z
UID:10013816-1783683000-1783684800@www.theshaar.org
SUMMARY:Parent & Tot Shabbat
DESCRIPTION:
URL:https://www.theshaar.org/event/parent-tot-shabbat/2026-07-10/
LOCATION:Congregation Shaar Hashomayim\, 425 Metcalfe Ave\, Westmount\, Quebec\, H3Y 3A2\, Canada
CATEGORIES:Main Event,Youth & Young Families
ATTACH;FMTTYPE=image/png:https://www.theshaar.org/wp-content/uploads/2026/01/parent-and-tot-winter-2026.png
END:VEVENT
BEGIN:VEVENT
DTSTART;TZID=America/New_York:20260713T190000
DTEND;TZID=America/New_York:20260713T200000
DTSTAMP:20260421T051020
CREATED:20250909T181340Z
LAST-MODIFIED:20260420T163019Z
UID:10012146-1783969200-1783972800@www.theshaar.org
SUMMARY:Kings\, Princes\, and Prophets
DESCRIPTION:Taught by Yosi Even-Hen\nStep into the world of ancient Israel and witness the remarkable journey of David — from a humble shepherd to the anointed King — as told in the Book of Samuel. \nClick below to join on Zoom: \nhttps://us06web.zoom.us/j/86296690278?pwd=E2RYWrGALMQObdkrNCITinZ0Gytpwl.1 \nMeeting ID: 862 9669 0278\nPasscode: 074293
URL:https://www.theshaar.org/event/kings-princes-and-prophets/2026-07-13/
LOCATION:Online
CATEGORIES:Shaar Learning Center,Main Event
ATTACH;FMTTYPE=image/jpeg:https://www.theshaar.org/wp-content/uploads/2025/09/SH_KingsPrincesProphets_Flyer-scaled.jpg
END:VEVENT
BEGIN:VEVENT
DTSTART;TZID=America/New_York:20260716T193000
DTEND;TZID=America/New_York:20260716T210000
DTSTAMP:20260421T051020
CREATED:20250909T165514Z
LAST-MODIFIED:20251210T200440Z
UID:10011891-1784230200-1784235600@www.theshaar.org
SUMMARY:Parashat Hashavua
DESCRIPTION:Taught by Rabbi Ellis\nCome together for a thoughtful and dynamic exploration of the weekly Torah portion. Each session offers fresh insights and contemporary perspectives\, uncovering the modern relevance and timeless wisdom woven into our holiest text\, the Torah. \nFree and open to all
URL:https://www.theshaar.org/event/parashat-hashavua/2026-07-16/
LOCATION:Congregation Shaar Hashomayim\, 425 Metcalfe Ave\, Westmount\, Quebec\, H3Y 3A2\, Canada
CATEGORIES:Shaar Learning Center,Main Event
ATTACH;FMTTYPE=image/jpeg:https://www.theshaar.org/wp-content/uploads/2025/09/SH_Parshat_Hashavua_Flyer2-scaled.jpg
END:VEVENT
END:VCALENDAR