BEGIN:VCALENDAR
VERSION:2.0
PRODID:-//The Shaar - ECPv6.15.20//NONSGML v1.0//EN
CALSCALE:GREGORIAN
METHOD:PUBLISH
X-WR-CALNAME:The Shaar
X-ORIGINAL-URL:https://www.theshaar.org
X-WR-CALDESC:Events for The Shaar
REFRESH-INTERVAL;VALUE=DURATION:PT1H
X-Robots-Tag:noindex
X-PUBLISHED-TTL:PT1H
BEGIN:VTIMEZONE
TZID:America/New_York
BEGIN:DAYLIGHT
TZOFFSETFROM:-0500
TZOFFSETTO:-0400
TZNAME:EDT
DTSTART:20280312T070000
END:DAYLIGHT
BEGIN:STANDARD
TZOFFSETFROM:-0400
TZOFFSETTO:-0500
TZNAME:EST
DTSTART:20281105T060000
END:STANDARD
BEGIN:DAYLIGHT
TZOFFSETFROM:-0500
TZOFFSETTO:-0400
TZNAME:EDT
DTSTART:20290311T070000
END:DAYLIGHT
BEGIN:STANDARD
TZOFFSETFROM:-0400
TZOFFSETTO:-0500
TZNAME:EST
DTSTART:20291104T060000
END:STANDARD
BEGIN:DAYLIGHT
TZOFFSETFROM:-0500
TZOFFSETTO:-0400
TZNAME:EDT
DTSTART:20300310T070000
END:DAYLIGHT
BEGIN:STANDARD
TZOFFSETFROM:-0400
TZOFFSETTO:-0500
TZNAME:EST
DTSTART:20301103T060000
END:STANDARD
END:VTIMEZONE
BEGIN:VEVENT
DTSTART;TZID=America/New_York:20290215T193000
DTEND;TZID=America/New_York:20290215T210000
DTSTAMP:20260422T185405
CREATED:20250909T165514Z
LAST-MODIFIED:20251210T200440Z
UID:10012026-1865878200-1865883600@www.theshaar.org
SUMMARY:Parashat Hashavua
DESCRIPTION:Taught by Rabbi Ellis\nCome together for a thoughtful and dynamic exploration of the weekly Torah portion. Each session offers fresh insights and contemporary perspectives\, uncovering the modern relevance and timeless wisdom woven into our holiest text\, the Torah. \nFree and open to all
URL:https://www.theshaar.org/event/parashat-hashavua/2029-02-15/
LOCATION:Congregation Shaar Hashomayim\, 425 Metcalfe Ave\, Westmount\, Quebec\, H3Y 3A2\, Canada
CATEGORIES:Shaar Learning Center,Main Event
ATTACH;FMTTYPE=image/jpeg:https://www.theshaar.org/wp-content/uploads/2025/09/SH_Parshat_Hashavua_Flyer2-scaled.jpg
END:VEVENT
BEGIN:VEVENT
DTSTART;TZID=America/New_York:20290219T190000
DTEND;TZID=America/New_York:20290219T200000
DTSTAMP:20260422T185405
CREATED:20250909T181340Z
LAST-MODIFIED:20260420T163019Z
UID:10012282-1866222000-1866225600@www.theshaar.org
SUMMARY:Kings\, Princes\, and Prophets
DESCRIPTION:Taught by Yosi Even-Hen\nStep into the world of ancient Israel and witness the remarkable journey of David — from a humble shepherd to the anointed King — as told in the Book of Samuel. \nClick below to join on Zoom: \nhttps://us06web.zoom.us/j/86296690278?pwd=E2RYWrGALMQObdkrNCITinZ0Gytpwl.1 \nMeeting ID: 862 9669 0278\nPasscode: 074293
URL:https://www.theshaar.org/event/kings-princes-and-prophets/2029-02-19/
LOCATION:Online
CATEGORIES:Shaar Learning Center,Main Event
ATTACH;FMTTYPE=image/jpeg:https://www.theshaar.org/wp-content/uploads/2025/09/SH_KingsPrincesProphets_Flyer-scaled.jpg
END:VEVENT
BEGIN:VEVENT
DTSTART;TZID=America/New_York:20290222T193000
DTEND;TZID=America/New_York:20290222T210000
DTSTAMP:20260422T185405
CREATED:20250909T165514Z
LAST-MODIFIED:20251210T200440Z
UID:10012027-1866483000-1866488400@www.theshaar.org
SUMMARY:Parashat Hashavua
DESCRIPTION:Taught by Rabbi Ellis\nCome together for a thoughtful and dynamic exploration of the weekly Torah portion. Each session offers fresh insights and contemporary perspectives\, uncovering the modern relevance and timeless wisdom woven into our holiest text\, the Torah. \nFree and open to all
URL:https://www.theshaar.org/event/parashat-hashavua/2029-02-22/
LOCATION:Congregation Shaar Hashomayim\, 425 Metcalfe Ave\, Westmount\, Quebec\, H3Y 3A2\, Canada
CATEGORIES:Shaar Learning Center,Main Event
ATTACH;FMTTYPE=image/jpeg:https://www.theshaar.org/wp-content/uploads/2025/09/SH_Parshat_Hashavua_Flyer2-scaled.jpg
END:VEVENT
BEGIN:VEVENT
DTSTART;TZID=America/New_York:20290226T190000
DTEND;TZID=America/New_York:20290226T200000
DTSTAMP:20260422T185405
CREATED:20250909T181340Z
LAST-MODIFIED:20260420T163019Z
UID:10012283-1866826800-1866830400@www.theshaar.org
SUMMARY:Kings\, Princes\, and Prophets
DESCRIPTION:Taught by Yosi Even-Hen\nStep into the world of ancient Israel and witness the remarkable journey of David — from a humble shepherd to the anointed King — as told in the Book of Samuel. \nClick below to join on Zoom: \nhttps://us06web.zoom.us/j/86296690278?pwd=E2RYWrGALMQObdkrNCITinZ0Gytpwl.1 \nMeeting ID: 862 9669 0278\nPasscode: 074293
URL:https://www.theshaar.org/event/kings-princes-and-prophets/2029-02-26/
LOCATION:Online
CATEGORIES:Shaar Learning Center,Main Event
ATTACH;FMTTYPE=image/jpeg:https://www.theshaar.org/wp-content/uploads/2025/09/SH_KingsPrincesProphets_Flyer-scaled.jpg
END:VEVENT
BEGIN:VEVENT
DTSTART;TZID=America/New_York:20290301T193000
DTEND;TZID=America/New_York:20290301T210000
DTSTAMP:20260422T185405
CREATED:20250909T165514Z
LAST-MODIFIED:20251210T200440Z
UID:10012028-1867087800-1867093200@www.theshaar.org
SUMMARY:Parashat Hashavua
DESCRIPTION:Taught by Rabbi Ellis\nCome together for a thoughtful and dynamic exploration of the weekly Torah portion. Each session offers fresh insights and contemporary perspectives\, uncovering the modern relevance and timeless wisdom woven into our holiest text\, the Torah. \nFree and open to all
URL:https://www.theshaar.org/event/parashat-hashavua/2029-03-01/
LOCATION:Congregation Shaar Hashomayim\, 425 Metcalfe Ave\, Westmount\, Quebec\, H3Y 3A2\, Canada
CATEGORIES:Shaar Learning Center,Main Event
ATTACH;FMTTYPE=image/jpeg:https://www.theshaar.org/wp-content/uploads/2025/09/SH_Parshat_Hashavua_Flyer2-scaled.jpg
END:VEVENT
BEGIN:VEVENT
DTSTART;TZID=America/New_York:20290305T190000
DTEND;TZID=America/New_York:20290305T200000
DTSTAMP:20260422T185405
CREATED:20250909T181340Z
LAST-MODIFIED:20260420T163019Z
UID:10012284-1867431600-1867435200@www.theshaar.org
SUMMARY:Kings\, Princes\, and Prophets
DESCRIPTION:Taught by Yosi Even-Hen\nStep into the world of ancient Israel and witness the remarkable journey of David — from a humble shepherd to the anointed King — as told in the Book of Samuel. \nClick below to join on Zoom: \nhttps://us06web.zoom.us/j/86296690278?pwd=E2RYWrGALMQObdkrNCITinZ0Gytpwl.1 \nMeeting ID: 862 9669 0278\nPasscode: 074293
URL:https://www.theshaar.org/event/kings-princes-and-prophets/2029-03-05/
LOCATION:Online
CATEGORIES:Shaar Learning Center,Main Event
ATTACH;FMTTYPE=image/jpeg:https://www.theshaar.org/wp-content/uploads/2025/09/SH_KingsPrincesProphets_Flyer-scaled.jpg
END:VEVENT
BEGIN:VEVENT
DTSTART;TZID=America/New_York:20290308T193000
DTEND;TZID=America/New_York:20290308T210000
DTSTAMP:20260422T185405
CREATED:20250909T165514Z
LAST-MODIFIED:20251210T200440Z
UID:10012029-1867692600-1867698000@www.theshaar.org
SUMMARY:Parashat Hashavua
DESCRIPTION:Taught by Rabbi Ellis\nCome together for a thoughtful and dynamic exploration of the weekly Torah portion. Each session offers fresh insights and contemporary perspectives\, uncovering the modern relevance and timeless wisdom woven into our holiest text\, the Torah. \nFree and open to all
URL:https://www.theshaar.org/event/parashat-hashavua/2029-03-08/
LOCATION:Congregation Shaar Hashomayim\, 425 Metcalfe Ave\, Westmount\, Quebec\, H3Y 3A2\, Canada
CATEGORIES:Shaar Learning Center,Main Event
ATTACH;FMTTYPE=image/jpeg:https://www.theshaar.org/wp-content/uploads/2025/09/SH_Parshat_Hashavua_Flyer2-scaled.jpg
END:VEVENT
BEGIN:VEVENT
DTSTART;TZID=America/New_York:20290312T190000
DTEND;TZID=America/New_York:20290312T200000
DTSTAMP:20260422T185405
CREATED:20250909T181340Z
LAST-MODIFIED:20260420T163019Z
UID:10012285-1868036400-1868040000@www.theshaar.org
SUMMARY:Kings\, Princes\, and Prophets
DESCRIPTION:Taught by Yosi Even-Hen\nStep into the world of ancient Israel and witness the remarkable journey of David — from a humble shepherd to the anointed King — as told in the Book of Samuel. \nClick below to join on Zoom: \nhttps://us06web.zoom.us/j/86296690278?pwd=E2RYWrGALMQObdkrNCITinZ0Gytpwl.1 \nMeeting ID: 862 9669 0278\nPasscode: 074293
URL:https://www.theshaar.org/event/kings-princes-and-prophets/2029-03-12/
LOCATION:Online
CATEGORIES:Shaar Learning Center,Main Event
ATTACH;FMTTYPE=image/jpeg:https://www.theshaar.org/wp-content/uploads/2025/09/SH_KingsPrincesProphets_Flyer-scaled.jpg
END:VEVENT
BEGIN:VEVENT
DTSTART;TZID=America/New_York:20290315T193000
DTEND;TZID=America/New_York:20290315T210000
DTSTAMP:20260422T185405
CREATED:20250909T165514Z
LAST-MODIFIED:20251210T200440Z
UID:10012030-1868297400-1868302800@www.theshaar.org
SUMMARY:Parashat Hashavua
DESCRIPTION:Taught by Rabbi Ellis\nCome together for a thoughtful and dynamic exploration of the weekly Torah portion. Each session offers fresh insights and contemporary perspectives\, uncovering the modern relevance and timeless wisdom woven into our holiest text\, the Torah. \nFree and open to all
URL:https://www.theshaar.org/event/parashat-hashavua/2029-03-15/
LOCATION:Congregation Shaar Hashomayim\, 425 Metcalfe Ave\, Westmount\, Quebec\, H3Y 3A2\, Canada
CATEGORIES:Shaar Learning Center,Main Event
ATTACH;FMTTYPE=image/jpeg:https://www.theshaar.org/wp-content/uploads/2025/09/SH_Parshat_Hashavua_Flyer2-scaled.jpg
END:VEVENT
BEGIN:VEVENT
DTSTART;TZID=America/New_York:20290319T190000
DTEND;TZID=America/New_York:20290319T200000
DTSTAMP:20260422T185405
CREATED:20250909T181340Z
LAST-MODIFIED:20260420T163019Z
UID:10012286-1868641200-1868644800@www.theshaar.org
SUMMARY:Kings\, Princes\, and Prophets
DESCRIPTION:Taught by Yosi Even-Hen\nStep into the world of ancient Israel and witness the remarkable journey of David — from a humble shepherd to the anointed King — as told in the Book of Samuel. \nClick below to join on Zoom: \nhttps://us06web.zoom.us/j/86296690278?pwd=E2RYWrGALMQObdkrNCITinZ0Gytpwl.1 \nMeeting ID: 862 9669 0278\nPasscode: 074293
URL:https://www.theshaar.org/event/kings-princes-and-prophets/2029-03-19/
LOCATION:Online
CATEGORIES:Shaar Learning Center,Main Event
ATTACH;FMTTYPE=image/jpeg:https://www.theshaar.org/wp-content/uploads/2025/09/SH_KingsPrincesProphets_Flyer-scaled.jpg
END:VEVENT
BEGIN:VEVENT
DTSTART;TZID=America/New_York:20290322T193000
DTEND;TZID=America/New_York:20290322T210000
DTSTAMP:20260422T185405
CREATED:20250909T165514Z
LAST-MODIFIED:20251210T200440Z
UID:10012031-1868902200-1868907600@www.theshaar.org
SUMMARY:Parashat Hashavua
DESCRIPTION:Taught by Rabbi Ellis\nCome together for a thoughtful and dynamic exploration of the weekly Torah portion. Each session offers fresh insights and contemporary perspectives\, uncovering the modern relevance and timeless wisdom woven into our holiest text\, the Torah. \nFree and open to all
URL:https://www.theshaar.org/event/parashat-hashavua/2029-03-22/
LOCATION:Congregation Shaar Hashomayim\, 425 Metcalfe Ave\, Westmount\, Quebec\, H3Y 3A2\, Canada
CATEGORIES:Shaar Learning Center,Main Event
ATTACH;FMTTYPE=image/jpeg:https://www.theshaar.org/wp-content/uploads/2025/09/SH_Parshat_Hashavua_Flyer2-scaled.jpg
END:VEVENT
BEGIN:VEVENT
DTSTART;TZID=America/New_York:20290326T190000
DTEND;TZID=America/New_York:20290326T200000
DTSTAMP:20260422T185405
CREATED:20250909T181340Z
LAST-MODIFIED:20260420T163019Z
UID:10012287-1869246000-1869249600@www.theshaar.org
SUMMARY:Kings\, Princes\, and Prophets
DESCRIPTION:Taught by Yosi Even-Hen\nStep into the world of ancient Israel and witness the remarkable journey of David — from a humble shepherd to the anointed King — as told in the Book of Samuel. \nClick below to join on Zoom: \nhttps://us06web.zoom.us/j/86296690278?pwd=E2RYWrGALMQObdkrNCITinZ0Gytpwl.1 \nMeeting ID: 862 9669 0278\nPasscode: 074293
URL:https://www.theshaar.org/event/kings-princes-and-prophets/2029-03-26/
LOCATION:Online
CATEGORIES:Shaar Learning Center,Main Event
ATTACH;FMTTYPE=image/jpeg:https://www.theshaar.org/wp-content/uploads/2025/09/SH_KingsPrincesProphets_Flyer-scaled.jpg
END:VEVENT
BEGIN:VEVENT
DTSTART;TZID=America/New_York:20290329T193000
DTEND;TZID=America/New_York:20290329T210000
DTSTAMP:20260422T185405
CREATED:20250909T165514Z
LAST-MODIFIED:20251210T200440Z
UID:10012032-1869507000-1869512400@www.theshaar.org
SUMMARY:Parashat Hashavua
DESCRIPTION:Taught by Rabbi Ellis\nCome together for a thoughtful and dynamic exploration of the weekly Torah portion. Each session offers fresh insights and contemporary perspectives\, uncovering the modern relevance and timeless wisdom woven into our holiest text\, the Torah. \nFree and open to all
URL:https://www.theshaar.org/event/parashat-hashavua/2029-03-29/
LOCATION:Congregation Shaar Hashomayim\, 425 Metcalfe Ave\, Westmount\, Quebec\, H3Y 3A2\, Canada
CATEGORIES:Shaar Learning Center,Main Event
ATTACH;FMTTYPE=image/jpeg:https://www.theshaar.org/wp-content/uploads/2025/09/SH_Parshat_Hashavua_Flyer2-scaled.jpg
END:VEVENT
BEGIN:VEVENT
DTSTART;TZID=America/New_York:20290402T190000
DTEND;TZID=America/New_York:20290402T200000
DTSTAMP:20260422T185405
CREATED:20250909T181340Z
LAST-MODIFIED:20260420T163019Z
UID:10012288-1869850800-1869854400@www.theshaar.org
SUMMARY:Kings\, Princes\, and Prophets
DESCRIPTION:Taught by Yosi Even-Hen\nStep into the world of ancient Israel and witness the remarkable journey of David — from a humble shepherd to the anointed King — as told in the Book of Samuel. \nClick below to join on Zoom: \nhttps://us06web.zoom.us/j/86296690278?pwd=E2RYWrGALMQObdkrNCITinZ0Gytpwl.1 \nMeeting ID: 862 9669 0278\nPasscode: 074293
URL:https://www.theshaar.org/event/kings-princes-and-prophets/2029-04-02/
LOCATION:Online
CATEGORIES:Shaar Learning Center,Main Event
ATTACH;FMTTYPE=image/jpeg:https://www.theshaar.org/wp-content/uploads/2025/09/SH_KingsPrincesProphets_Flyer-scaled.jpg
END:VEVENT
BEGIN:VEVENT
DTSTART;TZID=America/New_York:20290405T193000
DTEND;TZID=America/New_York:20290405T210000
DTSTAMP:20260422T185405
CREATED:20250909T165514Z
LAST-MODIFIED:20251210T200440Z
UID:10012033-1870111800-1870117200@www.theshaar.org
SUMMARY:Parashat Hashavua
DESCRIPTION:Taught by Rabbi Ellis\nCome together for a thoughtful and dynamic exploration of the weekly Torah portion. Each session offers fresh insights and contemporary perspectives\, uncovering the modern relevance and timeless wisdom woven into our holiest text\, the Torah. \nFree and open to all
URL:https://www.theshaar.org/event/parashat-hashavua/2029-04-05/
LOCATION:Congregation Shaar Hashomayim\, 425 Metcalfe Ave\, Westmount\, Quebec\, H3Y 3A2\, Canada
CATEGORIES:Shaar Learning Center,Main Event
ATTACH;FMTTYPE=image/jpeg:https://www.theshaar.org/wp-content/uploads/2025/09/SH_Parshat_Hashavua_Flyer2-scaled.jpg
END:VEVENT
BEGIN:VEVENT
DTSTART;TZID=America/New_York:20290409T190000
DTEND;TZID=America/New_York:20290409T200000
DTSTAMP:20260422T185405
CREATED:20250909T181340Z
LAST-MODIFIED:20260420T163019Z
UID:10012289-1870455600-1870459200@www.theshaar.org
SUMMARY:Kings\, Princes\, and Prophets
DESCRIPTION:Taught by Yosi Even-Hen\nStep into the world of ancient Israel and witness the remarkable journey of David — from a humble shepherd to the anointed King — as told in the Book of Samuel. \nClick below to join on Zoom: \nhttps://us06web.zoom.us/j/86296690278?pwd=E2RYWrGALMQObdkrNCITinZ0Gytpwl.1 \nMeeting ID: 862 9669 0278\nPasscode: 074293
URL:https://www.theshaar.org/event/kings-princes-and-prophets/2029-04-09/
LOCATION:Online
CATEGORIES:Shaar Learning Center,Main Event
ATTACH;FMTTYPE=image/jpeg:https://www.theshaar.org/wp-content/uploads/2025/09/SH_KingsPrincesProphets_Flyer-scaled.jpg
END:VEVENT
BEGIN:VEVENT
DTSTART;TZID=America/New_York:20290412T193000
DTEND;TZID=America/New_York:20290412T210000
DTSTAMP:20260422T185406
CREATED:20250909T165514Z
LAST-MODIFIED:20251210T200440Z
UID:10012034-1870716600-1870722000@www.theshaar.org
SUMMARY:Parashat Hashavua
DESCRIPTION:Taught by Rabbi Ellis\nCome together for a thoughtful and dynamic exploration of the weekly Torah portion. Each session offers fresh insights and contemporary perspectives\, uncovering the modern relevance and timeless wisdom woven into our holiest text\, the Torah. \nFree and open to all
URL:https://www.theshaar.org/event/parashat-hashavua/2029-04-12/
LOCATION:Congregation Shaar Hashomayim\, 425 Metcalfe Ave\, Westmount\, Quebec\, H3Y 3A2\, Canada
CATEGORIES:Shaar Learning Center,Main Event
ATTACH;FMTTYPE=image/jpeg:https://www.theshaar.org/wp-content/uploads/2025/09/SH_Parshat_Hashavua_Flyer2-scaled.jpg
END:VEVENT
BEGIN:VEVENT
DTSTART;TZID=America/New_York:20290416T190000
DTEND;TZID=America/New_York:20290416T200000
DTSTAMP:20260422T185406
CREATED:20250909T181340Z
LAST-MODIFIED:20260420T163019Z
UID:10012290-1871060400-1871064000@www.theshaar.org
SUMMARY:Kings\, Princes\, and Prophets
DESCRIPTION:Taught by Yosi Even-Hen\nStep into the world of ancient Israel and witness the remarkable journey of David — from a humble shepherd to the anointed King — as told in the Book of Samuel. \nClick below to join on Zoom: \nhttps://us06web.zoom.us/j/86296690278?pwd=E2RYWrGALMQObdkrNCITinZ0Gytpwl.1 \nMeeting ID: 862 9669 0278\nPasscode: 074293
URL:https://www.theshaar.org/event/kings-princes-and-prophets/2029-04-16/
LOCATION:Online
CATEGORIES:Shaar Learning Center,Main Event
ATTACH;FMTTYPE=image/jpeg:https://www.theshaar.org/wp-content/uploads/2025/09/SH_KingsPrincesProphets_Flyer-scaled.jpg
END:VEVENT
BEGIN:VEVENT
DTSTART;TZID=America/New_York:20290419T193000
DTEND;TZID=America/New_York:20290419T210000
DTSTAMP:20260422T185406
CREATED:20250909T165514Z
LAST-MODIFIED:20251210T200440Z
UID:10012035-1871321400-1871326800@www.theshaar.org
SUMMARY:Parashat Hashavua
DESCRIPTION:Taught by Rabbi Ellis\nCome together for a thoughtful and dynamic exploration of the weekly Torah portion. Each session offers fresh insights and contemporary perspectives\, uncovering the modern relevance and timeless wisdom woven into our holiest text\, the Torah. \nFree and open to all
URL:https://www.theshaar.org/event/parashat-hashavua/2029-04-19/
LOCATION:Congregation Shaar Hashomayim\, 425 Metcalfe Ave\, Westmount\, Quebec\, H3Y 3A2\, Canada
CATEGORIES:Shaar Learning Center,Main Event
ATTACH;FMTTYPE=image/jpeg:https://www.theshaar.org/wp-content/uploads/2025/09/SH_Parshat_Hashavua_Flyer2-scaled.jpg
END:VEVENT
BEGIN:VEVENT
DTSTART;TZID=America/New_York:20290423T190000
DTEND;TZID=America/New_York:20290423T200000
DTSTAMP:20260422T185406
CREATED:20250909T181340Z
LAST-MODIFIED:20260420T163019Z
UID:10012291-1871665200-1871668800@www.theshaar.org
SUMMARY:Kings\, Princes\, and Prophets
DESCRIPTION:Taught by Yosi Even-Hen\nStep into the world of ancient Israel and witness the remarkable journey of David — from a humble shepherd to the anointed King — as told in the Book of Samuel. \nClick below to join on Zoom: \nhttps://us06web.zoom.us/j/86296690278?pwd=E2RYWrGALMQObdkrNCITinZ0Gytpwl.1 \nMeeting ID: 862 9669 0278\nPasscode: 074293
URL:https://www.theshaar.org/event/kings-princes-and-prophets/2029-04-23/
LOCATION:Online
CATEGORIES:Shaar Learning Center,Main Event
ATTACH;FMTTYPE=image/jpeg:https://www.theshaar.org/wp-content/uploads/2025/09/SH_KingsPrincesProphets_Flyer-scaled.jpg
END:VEVENT
BEGIN:VEVENT
DTSTART;TZID=America/New_York:20290426T193000
DTEND;TZID=America/New_York:20290426T210000
DTSTAMP:20260422T185406
CREATED:20250909T165514Z
LAST-MODIFIED:20251210T200440Z
UID:10012036-1871926200-1871931600@www.theshaar.org
SUMMARY:Parashat Hashavua
DESCRIPTION:Taught by Rabbi Ellis\nCome together for a thoughtful and dynamic exploration of the weekly Torah portion. Each session offers fresh insights and contemporary perspectives\, uncovering the modern relevance and timeless wisdom woven into our holiest text\, the Torah. \nFree and open to all
URL:https://www.theshaar.org/event/parashat-hashavua/2029-04-26/
LOCATION:Congregation Shaar Hashomayim\, 425 Metcalfe Ave\, Westmount\, Quebec\, H3Y 3A2\, Canada
CATEGORIES:Shaar Learning Center,Main Event
ATTACH;FMTTYPE=image/jpeg:https://www.theshaar.org/wp-content/uploads/2025/09/SH_Parshat_Hashavua_Flyer2-scaled.jpg
END:VEVENT
BEGIN:VEVENT
DTSTART;TZID=America/New_York:20290430T190000
DTEND;TZID=America/New_York:20290430T200000
DTSTAMP:20260422T185406
CREATED:20250909T181340Z
LAST-MODIFIED:20260420T163019Z
UID:10012292-1872270000-1872273600@www.theshaar.org
SUMMARY:Kings\, Princes\, and Prophets
DESCRIPTION:Taught by Yosi Even-Hen\nStep into the world of ancient Israel and witness the remarkable journey of David — from a humble shepherd to the anointed King — as told in the Book of Samuel. \nClick below to join on Zoom: \nhttps://us06web.zoom.us/j/86296690278?pwd=E2RYWrGALMQObdkrNCITinZ0Gytpwl.1 \nMeeting ID: 862 9669 0278\nPasscode: 074293
URL:https://www.theshaar.org/event/kings-princes-and-prophets/2029-04-30/
LOCATION:Online
CATEGORIES:Shaar Learning Center,Main Event
ATTACH;FMTTYPE=image/jpeg:https://www.theshaar.org/wp-content/uploads/2025/09/SH_KingsPrincesProphets_Flyer-scaled.jpg
END:VEVENT
BEGIN:VEVENT
DTSTART;TZID=America/New_York:20290503T193000
DTEND;TZID=America/New_York:20290503T210000
DTSTAMP:20260422T185406
CREATED:20250909T165514Z
LAST-MODIFIED:20251210T200440Z
UID:10012037-1872531000-1872536400@www.theshaar.org
SUMMARY:Parashat Hashavua
DESCRIPTION:Taught by Rabbi Ellis\nCome together for a thoughtful and dynamic exploration of the weekly Torah portion. Each session offers fresh insights and contemporary perspectives\, uncovering the modern relevance and timeless wisdom woven into our holiest text\, the Torah. \nFree and open to all
URL:https://www.theshaar.org/event/parashat-hashavua/2029-05-03/
LOCATION:Congregation Shaar Hashomayim\, 425 Metcalfe Ave\, Westmount\, Quebec\, H3Y 3A2\, Canada
CATEGORIES:Shaar Learning Center,Main Event
ATTACH;FMTTYPE=image/jpeg:https://www.theshaar.org/wp-content/uploads/2025/09/SH_Parshat_Hashavua_Flyer2-scaled.jpg
END:VEVENT
BEGIN:VEVENT
DTSTART;TZID=America/New_York:20290507T190000
DTEND;TZID=America/New_York:20290507T200000
DTSTAMP:20260422T185406
CREATED:20250909T181340Z
LAST-MODIFIED:20260420T163019Z
UID:10012293-1872874800-1872878400@www.theshaar.org
SUMMARY:Kings\, Princes\, and Prophets
DESCRIPTION:Taught by Yosi Even-Hen\nStep into the world of ancient Israel and witness the remarkable journey of David — from a humble shepherd to the anointed King — as told in the Book of Samuel. \nClick below to join on Zoom: \nhttps://us06web.zoom.us/j/86296690278?pwd=E2RYWrGALMQObdkrNCITinZ0Gytpwl.1 \nMeeting ID: 862 9669 0278\nPasscode: 074293
URL:https://www.theshaar.org/event/kings-princes-and-prophets/2029-05-07/
LOCATION:Online
CATEGORIES:Shaar Learning Center,Main Event
ATTACH;FMTTYPE=image/jpeg:https://www.theshaar.org/wp-content/uploads/2025/09/SH_KingsPrincesProphets_Flyer-scaled.jpg
END:VEVENT
BEGIN:VEVENT
DTSTART;TZID=America/New_York:20290510T193000
DTEND;TZID=America/New_York:20290510T210000
DTSTAMP:20260422T185406
CREATED:20250909T165514Z
LAST-MODIFIED:20251210T200440Z
UID:10012038-1873135800-1873141200@www.theshaar.org
SUMMARY:Parashat Hashavua
DESCRIPTION:Taught by Rabbi Ellis\nCome together for a thoughtful and dynamic exploration of the weekly Torah portion. Each session offers fresh insights and contemporary perspectives\, uncovering the modern relevance and timeless wisdom woven into our holiest text\, the Torah. \nFree and open to all
URL:https://www.theshaar.org/event/parashat-hashavua/2029-05-10/
LOCATION:Congregation Shaar Hashomayim\, 425 Metcalfe Ave\, Westmount\, Quebec\, H3Y 3A2\, Canada
CATEGORIES:Shaar Learning Center,Main Event
ATTACH;FMTTYPE=image/jpeg:https://www.theshaar.org/wp-content/uploads/2025/09/SH_Parshat_Hashavua_Flyer2-scaled.jpg
END:VEVENT
BEGIN:VEVENT
DTSTART;TZID=America/New_York:20290514T190000
DTEND;TZID=America/New_York:20290514T200000
DTSTAMP:20260422T185406
CREATED:20250909T181340Z
LAST-MODIFIED:20260420T163019Z
UID:10012294-1873479600-1873483200@www.theshaar.org
SUMMARY:Kings\, Princes\, and Prophets
DESCRIPTION:Taught by Yosi Even-Hen\nStep into the world of ancient Israel and witness the remarkable journey of David — from a humble shepherd to the anointed King — as told in the Book of Samuel. \nClick below to join on Zoom: \nhttps://us06web.zoom.us/j/86296690278?pwd=E2RYWrGALMQObdkrNCITinZ0Gytpwl.1 \nMeeting ID: 862 9669 0278\nPasscode: 074293
URL:https://www.theshaar.org/event/kings-princes-and-prophets/2029-05-14/
LOCATION:Online
CATEGORIES:Shaar Learning Center,Main Event
ATTACH;FMTTYPE=image/jpeg:https://www.theshaar.org/wp-content/uploads/2025/09/SH_KingsPrincesProphets_Flyer-scaled.jpg
END:VEVENT
BEGIN:VEVENT
DTSTART;TZID=America/New_York:20290517T193000
DTEND;TZID=America/New_York:20290517T210000
DTSTAMP:20260422T185406
CREATED:20250909T165514Z
LAST-MODIFIED:20251210T200440Z
UID:10012039-1873740600-1873746000@www.theshaar.org
SUMMARY:Parashat Hashavua
DESCRIPTION:Taught by Rabbi Ellis\nCome together for a thoughtful and dynamic exploration of the weekly Torah portion. Each session offers fresh insights and contemporary perspectives\, uncovering the modern relevance and timeless wisdom woven into our holiest text\, the Torah. \nFree and open to all
URL:https://www.theshaar.org/event/parashat-hashavua/2029-05-17/
LOCATION:Congregation Shaar Hashomayim\, 425 Metcalfe Ave\, Westmount\, Quebec\, H3Y 3A2\, Canada
CATEGORIES:Shaar Learning Center,Main Event
ATTACH;FMTTYPE=image/jpeg:https://www.theshaar.org/wp-content/uploads/2025/09/SH_Parshat_Hashavua_Flyer2-scaled.jpg
END:VEVENT
BEGIN:VEVENT
DTSTART;TZID=America/New_York:20290521T190000
DTEND;TZID=America/New_York:20290521T200000
DTSTAMP:20260422T185406
CREATED:20250909T181340Z
LAST-MODIFIED:20260420T163019Z
UID:10012295-1874084400-1874088000@www.theshaar.org
SUMMARY:Kings\, Princes\, and Prophets
DESCRIPTION:Taught by Yosi Even-Hen\nStep into the world of ancient Israel and witness the remarkable journey of David — from a humble shepherd to the anointed King — as told in the Book of Samuel. \nClick below to join on Zoom: \nhttps://us06web.zoom.us/j/86296690278?pwd=E2RYWrGALMQObdkrNCITinZ0Gytpwl.1 \nMeeting ID: 862 9669 0278\nPasscode: 074293
URL:https://www.theshaar.org/event/kings-princes-and-prophets/2029-05-21/
LOCATION:Online
CATEGORIES:Shaar Learning Center,Main Event
ATTACH;FMTTYPE=image/jpeg:https://www.theshaar.org/wp-content/uploads/2025/09/SH_KingsPrincesProphets_Flyer-scaled.jpg
END:VEVENT
BEGIN:VEVENT
DTSTART;TZID=America/New_York:20290524T193000
DTEND;TZID=America/New_York:20290524T210000
DTSTAMP:20260422T185406
CREATED:20250909T165514Z
LAST-MODIFIED:20251210T200440Z
UID:10012040-1874345400-1874350800@www.theshaar.org
SUMMARY:Parashat Hashavua
DESCRIPTION:Taught by Rabbi Ellis\nCome together for a thoughtful and dynamic exploration of the weekly Torah portion. Each session offers fresh insights and contemporary perspectives\, uncovering the modern relevance and timeless wisdom woven into our holiest text\, the Torah. \nFree and open to all
URL:https://www.theshaar.org/event/parashat-hashavua/2029-05-24/
LOCATION:Congregation Shaar Hashomayim\, 425 Metcalfe Ave\, Westmount\, Quebec\, H3Y 3A2\, Canada
CATEGORIES:Shaar Learning Center,Main Event
ATTACH;FMTTYPE=image/jpeg:https://www.theshaar.org/wp-content/uploads/2025/09/SH_Parshat_Hashavua_Flyer2-scaled.jpg
END:VEVENT
BEGIN:VEVENT
DTSTART;TZID=America/New_York:20290528T190000
DTEND;TZID=America/New_York:20290528T200000
DTSTAMP:20260422T185406
CREATED:20250909T181340Z
LAST-MODIFIED:20260420T163019Z
UID:10012296-1874689200-1874692800@www.theshaar.org
SUMMARY:Kings\, Princes\, and Prophets
DESCRIPTION:Taught by Yosi Even-Hen\nStep into the world of ancient Israel and witness the remarkable journey of David — from a humble shepherd to the anointed King — as told in the Book of Samuel. \nClick below to join on Zoom: \nhttps://us06web.zoom.us/j/86296690278?pwd=E2RYWrGALMQObdkrNCITinZ0Gytpwl.1 \nMeeting ID: 862 9669 0278\nPasscode: 074293
URL:https://www.theshaar.org/event/kings-princes-and-prophets/2029-05-28/
LOCATION:Online
CATEGORIES:Shaar Learning Center,Main Event
ATTACH;FMTTYPE=image/jpeg:https://www.theshaar.org/wp-content/uploads/2025/09/SH_KingsPrincesProphets_Flyer-scaled.jpg
END:VEVENT
END:VCALENDAR